BEGIN:VCALENDAR
VERSION:2.0
PRODID:-// - ECPv6.15.17.1//NONSGML v1.0//EN
CALSCALE:GREGORIAN
METHOD:PUBLISH
X-ORIGINAL-URL:https://callibakersfirehouse.com
X-WR-CALDESC:Events for 
REFRESH-INTERVAL;VALUE=DURATION:PT1H
X-Robots-Tag:noindex
X-PUBLISHED-TTL:PT1H
BEGIN:VTIMEZONE
TZID:America/New_York
BEGIN:DAYLIGHT
TZOFFSETFROM:-0500
TZOFFSETTO:-0400
TZNAME:EDT
DTSTART:20250309T070000
END:DAYLIGHT
BEGIN:STANDARD
TZOFFSETFROM:-0400
TZOFFSETTO:-0500
TZNAME:EST
DTSTART:20251102T060000
END:STANDARD
BEGIN:DAYLIGHT
TZOFFSETFROM:-0500
TZOFFSETTO:-0400
TZNAME:EDT
DTSTART:20260308T070000
END:DAYLIGHT
BEGIN:STANDARD
TZOFFSETFROM:-0400
TZOFFSETTO:-0500
TZNAME:EST
DTSTART:20261101T060000
END:STANDARD
BEGIN:DAYLIGHT
TZOFFSETFROM:-0500
TZOFFSETTO:-0400
TZNAME:EDT
DTSTART:20270314T070000
END:DAYLIGHT
BEGIN:STANDARD
TZOFFSETFROM:-0400
TZOFFSETTO:-0500
TZNAME:EST
DTSTART:20271107T060000
END:STANDARD
END:VTIMEZONE
BEGIN:VEVENT
DTSTART;TZID=America/New_York:20260706T180000
DTEND;TZID=America/New_York:20260706T200000
DTSTAMP:20260424T122611
CREATED:20250923T135428Z
LAST-MODIFIED:20250923T135428Z
UID:10000311-1783360800-1783368000@callibakersfirehouse.com
SUMMARY:Music Bingo
DESCRIPTION:
URL:https://callibakersfirehouse.com/event/music-bingo/2026-07-06/
CATEGORIES:Event
END:VEVENT
BEGIN:VEVENT
DTSTART;TZID=America/New_York:20260707T180000
DTEND;TZID=America/New_York:20260707T210000
DTSTAMP:20260424T122611
CREATED:20250923T135503Z
LAST-MODIFIED:20260302T152914Z
UID:10001091-1783447200-1783458000@callibakersfirehouse.com
SUMMARY:Travis Proctor Rock & Roll Show
DESCRIPTION:
URL:https://callibakersfirehouse.com/event/travis-proctor/2026-07-07/
CATEGORIES:Event
END:VEVENT
BEGIN:VEVENT
DTSTART;TZID=America/New_York:20260709T180000
DTEND;TZID=America/New_York:20260709T210000
DTSTAMP:20260424T122611
CREATED:20260122T194216Z
LAST-MODIFIED:20260122T194216Z
UID:10000911-1783620000-1783630800@callibakersfirehouse.com
SUMMARY:Travis Proctor's Rock & Roll Show
DESCRIPTION:
URL:https://callibakersfirehouse.com/event/travis-proctors-rock-roll-show-2/2026-07-09/
CATEGORIES:Live Music
END:VEVENT
BEGIN:VEVENT
DTSTART;TZID=America/New_York:20260710T183000
DTEND;TZID=America/New_York:20260710T220000
DTSTAMP:20260424T122611
CREATED:20260212T205903Z
LAST-MODIFIED:20260212T205903Z
UID:10001041-1783708200-1783720800@callibakersfirehouse.com
SUMMARY:Painted Man
DESCRIPTION:
URL:https://callibakersfirehouse.com/event/painted-man/
CATEGORIES:Live Music
END:VEVENT
BEGIN:VEVENT
DTSTART;TZID=America/New_York:20260711T183000
DTEND;TZID=America/New_York:20260711T220000
DTSTAMP:20260424T122611
CREATED:20260212T210007Z
LAST-MODIFIED:20260212T210007Z
UID:10001042-1783794600-1783807200@callibakersfirehouse.com
SUMMARY:If Birds Could Fly
DESCRIPTION:
URL:https://callibakersfirehouse.com/event/if-birds-could-fly/
CATEGORIES:Live Music
END:VEVENT
BEGIN:VEVENT
DTSTART;TZID=America/New_York:20260713T180000
DTEND;TZID=America/New_York:20260713T200000
DTSTAMP:20260424T122611
CREATED:20250923T135428Z
LAST-MODIFIED:20250923T135428Z
UID:10000312-1783965600-1783972800@callibakersfirehouse.com
SUMMARY:Music Bingo
DESCRIPTION:
URL:https://callibakersfirehouse.com/event/music-bingo/2026-07-13/
CATEGORIES:Event
END:VEVENT
BEGIN:VEVENT
DTSTART;TZID=America/New_York:20260714T180000
DTEND;TZID=America/New_York:20260714T210000
DTSTAMP:20260424T122611
CREATED:20250923T135503Z
LAST-MODIFIED:20260302T152914Z
UID:10001092-1784052000-1784062800@callibakersfirehouse.com
SUMMARY:Travis Proctor Rock & Roll Show
DESCRIPTION:
URL:https://callibakersfirehouse.com/event/travis-proctor/2026-07-14/
CATEGORIES:Event
END:VEVENT
BEGIN:VEVENT
DTSTART;TZID=America/New_York:20260716T180000
DTEND;TZID=America/New_York:20260716T210000
DTSTAMP:20260424T122611
CREATED:20260122T194216Z
LAST-MODIFIED:20260122T194216Z
UID:10000912-1784224800-1784235600@callibakersfirehouse.com
SUMMARY:Travis Proctor's Rock & Roll Show
DESCRIPTION:
URL:https://callibakersfirehouse.com/event/travis-proctors-rock-roll-show-2/2026-07-16/
CATEGORIES:Live Music
END:VEVENT
BEGIN:VEVENT
DTSTART;TZID=America/New_York:20260717T183000
DTEND;TZID=America/New_York:20260717T220000
DTSTAMP:20260424T122611
CREATED:20260212T210040Z
LAST-MODIFIED:20260212T210040Z
UID:10001043-1784313000-1784325600@callibakersfirehouse.com
SUMMARY:Urban Jukebox
DESCRIPTION:
URL:https://callibakersfirehouse.com/event/urban-jukebox/
CATEGORIES:Live Music
END:VEVENT
BEGIN:VEVENT
DTSTART;TZID=America/New_York:20260718T183000
DTEND;TZID=America/New_York:20260718T220000
DTSTAMP:20260424T122611
CREATED:20260212T210131Z
LAST-MODIFIED:20260212T210131Z
UID:10001044-1784399400-1784412000@callibakersfirehouse.com
SUMMARY:Chasing Rachel
DESCRIPTION:
URL:https://callibakersfirehouse.com/event/chasing-rachel/
CATEGORIES:Live Music
END:VEVENT
BEGIN:VEVENT
DTSTART;TZID=America/New_York:20260720T180000
DTEND;TZID=America/New_York:20260720T200000
DTSTAMP:20260424T122611
CREATED:20250923T135428Z
LAST-MODIFIED:20250923T135428Z
UID:10000313-1784570400-1784577600@callibakersfirehouse.com
SUMMARY:Music Bingo
DESCRIPTION:
URL:https://callibakersfirehouse.com/event/music-bingo/2026-07-20/
CATEGORIES:Event
END:VEVENT
BEGIN:VEVENT
DTSTART;TZID=America/New_York:20260721T180000
DTEND;TZID=America/New_York:20260721T210000
DTSTAMP:20260424T122611
CREATED:20250923T135503Z
LAST-MODIFIED:20260302T152914Z
UID:10001093-1784656800-1784667600@callibakersfirehouse.com
SUMMARY:Travis Proctor Rock & Roll Show
DESCRIPTION:
URL:https://callibakersfirehouse.com/event/travis-proctor/2026-07-21/
CATEGORIES:Event
END:VEVENT
BEGIN:VEVENT
DTSTART;TZID=America/New_York:20260723T180000
DTEND;TZID=America/New_York:20260723T210000
DTSTAMP:20260424T122611
CREATED:20260122T194216Z
LAST-MODIFIED:20260122T194216Z
UID:10000913-1784829600-1784840400@callibakersfirehouse.com
SUMMARY:Travis Proctor's Rock & Roll Show
DESCRIPTION:
URL:https://callibakersfirehouse.com/event/travis-proctors-rock-roll-show-2/2026-07-23/
CATEGORIES:Live Music
END:VEVENT
BEGIN:VEVENT
DTSTART;TZID=America/New_York:20260724T183000
DTEND;TZID=America/New_York:20260724T220000
DTSTAMP:20260424T122611
CREATED:20260212T210213Z
LAST-MODIFIED:20260212T210213Z
UID:10001045-1784917800-1784930400@callibakersfirehouse.com
SUMMARY:Tim Elliott Band
DESCRIPTION:
URL:https://callibakersfirehouse.com/event/tim-elliott-band-2/
CATEGORIES:Live Music
END:VEVENT
BEGIN:VEVENT
DTSTART;TZID=America/New_York:20260725T183000
DTEND;TZID=America/New_York:20260725T220000
DTSTAMP:20260424T122611
CREATED:20260212T210352Z
LAST-MODIFIED:20260212T210352Z
UID:10001046-1785004200-1785016800@callibakersfirehouse.com
SUMMARY:Emory West Band
DESCRIPTION:
URL:https://callibakersfirehouse.com/event/emory-west-band-2/
CATEGORIES:Live Music
END:VEVENT
BEGIN:VEVENT
DTSTART;TZID=America/New_York:20260727T180000
DTEND;TZID=America/New_York:20260727T200000
DTSTAMP:20260424T122611
CREATED:20250923T135428Z
LAST-MODIFIED:20250923T135428Z
UID:10000314-1785175200-1785182400@callibakersfirehouse.com
SUMMARY:Music Bingo
DESCRIPTION:
URL:https://callibakersfirehouse.com/event/music-bingo/2026-07-27/
CATEGORIES:Event
END:VEVENT
BEGIN:VEVENT
DTSTART;TZID=America/New_York:20260728T180000
DTEND;TZID=America/New_York:20260728T210000
DTSTAMP:20260424T122611
CREATED:20250923T135503Z
LAST-MODIFIED:20260302T152914Z
UID:10001094-1785261600-1785272400@callibakersfirehouse.com
SUMMARY:Travis Proctor Rock & Roll Show
DESCRIPTION:
URL:https://callibakersfirehouse.com/event/travis-proctor/2026-07-28/
CATEGORIES:Event
END:VEVENT
BEGIN:VEVENT
DTSTART;TZID=America/New_York:20260730T180000
DTEND;TZID=America/New_York:20260730T210000
DTSTAMP:20260424T122611
CREATED:20260122T194216Z
LAST-MODIFIED:20260122T194216Z
UID:10000914-1785434400-1785445200@callibakersfirehouse.com
SUMMARY:Travis Proctor's Rock & Roll Show
DESCRIPTION:
URL:https://callibakersfirehouse.com/event/travis-proctors-rock-roll-show-2/2026-07-30/
CATEGORIES:Live Music
END:VEVENT
BEGIN:VEVENT
DTSTART;TZID=America/New_York:20260731T183000
DTEND;TZID=America/New_York:20260731T220000
DTSTAMP:20260424T122611
CREATED:20260212T210835Z
LAST-MODIFIED:20260212T210835Z
UID:10001048-1785522600-1785535200@callibakersfirehouse.com
SUMMARY:Jim Quick Band
DESCRIPTION:
URL:https://callibakersfirehouse.com/event/jim-quick-band-2/
CATEGORIES:Live Music
END:VEVENT
BEGIN:VEVENT
DTSTART;TZID=America/New_York:20260801T183000
DTEND;TZID=America/New_York:20260801T220000
DTSTAMP:20260424T122611
CREATED:20260212T200933Z
LAST-MODIFIED:20260212T200933Z
UID:10000923-1785609000-1785621600@callibakersfirehouse.com
SUMMARY:How Bout Now
DESCRIPTION:
URL:https://callibakersfirehouse.com/event/how-bout-now/
CATEGORIES:Live Music
END:VEVENT
BEGIN:VEVENT
DTSTART;TZID=America/New_York:20260803T180000
DTEND;TZID=America/New_York:20260803T200000
DTSTAMP:20260424T122611
CREATED:20250923T135428Z
LAST-MODIFIED:20250923T135428Z
UID:10000315-1785780000-1785787200@callibakersfirehouse.com
SUMMARY:Music Bingo
DESCRIPTION:
URL:https://callibakersfirehouse.com/event/music-bingo/2026-08-03/
CATEGORIES:Event
END:VEVENT
BEGIN:VEVENT
DTSTART;TZID=America/New_York:20260804T180000
DTEND;TZID=America/New_York:20260804T210000
DTSTAMP:20260424T122611
CREATED:20250923T135503Z
LAST-MODIFIED:20260302T152914Z
UID:10001095-1785866400-1785877200@callibakersfirehouse.com
SUMMARY:Travis Proctor Rock & Roll Show
DESCRIPTION:
URL:https://callibakersfirehouse.com/event/travis-proctor/2026-08-04/
CATEGORIES:Event
END:VEVENT
BEGIN:VEVENT
DTSTART;TZID=America/New_York:20260806T180000
DTEND;TZID=America/New_York:20260806T210000
DTSTAMP:20260424T122611
CREATED:20260122T194216Z
LAST-MODIFIED:20260122T194216Z
UID:10000915-1786039200-1786050000@callibakersfirehouse.com
SUMMARY:Travis Proctor's Rock & Roll Show
DESCRIPTION:
URL:https://callibakersfirehouse.com/event/travis-proctors-rock-roll-show-2/2026-08-06/
CATEGORIES:Live Music
END:VEVENT
BEGIN:VEVENT
DTSTART;TZID=America/New_York:20260807T183000
DTEND;TZID=America/New_York:20260807T220000
DTSTAMP:20260424T122611
CREATED:20260212T201356Z
LAST-MODIFIED:20260212T201356Z
UID:10000993-1786127400-1786140000@callibakersfirehouse.com
SUMMARY:Chris Sacks Band
DESCRIPTION:
URL:https://callibakersfirehouse.com/event/chris-sacks-band/
CATEGORIES:Live Music
END:VEVENT
BEGIN:VEVENT
DTSTART;TZID=America/New_York:20260808T183000
DTEND;TZID=America/New_York:20260808T220000
DTSTAMP:20260424T122611
CREATED:20260212T201445Z
LAST-MODIFIED:20260212T201729Z
UID:10000994-1786213800-1786226400@callibakersfirehouse.com
SUMMARY:Abbey Elmore Band
DESCRIPTION:
URL:https://callibakersfirehouse.com/event/abbey-elmore-band/
CATEGORIES:Live Music
END:VEVENT
BEGIN:VEVENT
DTSTART;TZID=America/New_York:20260810T180000
DTEND;TZID=America/New_York:20260810T200000
DTSTAMP:20260424T122611
CREATED:20250923T135428Z
LAST-MODIFIED:20250923T135428Z
UID:10000316-1786384800-1786392000@callibakersfirehouse.com
SUMMARY:Music Bingo
DESCRIPTION:
URL:https://callibakersfirehouse.com/event/music-bingo/2026-08-10/
CATEGORIES:Event
END:VEVENT
BEGIN:VEVENT
DTSTART;TZID=America/New_York:20260811T180000
DTEND;TZID=America/New_York:20260811T210000
DTSTAMP:20260424T122611
CREATED:20250923T135503Z
LAST-MODIFIED:20260302T152914Z
UID:10001096-1786471200-1786482000@callibakersfirehouse.com
SUMMARY:Travis Proctor Rock & Roll Show
DESCRIPTION:
URL:https://callibakersfirehouse.com/event/travis-proctor/2026-08-11/
CATEGORIES:Event
END:VEVENT
BEGIN:VEVENT
DTSTART;TZID=America/New_York:20260813T180000
DTEND;TZID=America/New_York:20260813T210000
DTSTAMP:20260424T122611
CREATED:20260122T194216Z
LAST-MODIFIED:20260122T194216Z
UID:10000916-1786644000-1786654800@callibakersfirehouse.com
SUMMARY:Travis Proctor's Rock & Roll Show
DESCRIPTION:
URL:https://callibakersfirehouse.com/event/travis-proctors-rock-roll-show-2/2026-08-13/
CATEGORIES:Live Music
END:VEVENT
BEGIN:VEVENT
DTSTART;TZID=America/New_York:20260814T183000
DTEND;TZID=America/New_York:20260814T220000
DTSTAMP:20260424T122611
CREATED:20260212T201517Z
LAST-MODIFIED:20260212T201517Z
UID:10000995-1786732200-1786744800@callibakersfirehouse.com
SUMMARY:Ntranze Band
DESCRIPTION:
URL:https://callibakersfirehouse.com/event/ntranze-band/
CATEGORIES:Live Music
END:VEVENT
BEGIN:VEVENT
DTSTART;TZID=America/New_York:20260815T183000
DTEND;TZID=America/New_York:20260815T220000
DTSTAMP:20260424T122611
CREATED:20260212T201602Z
LAST-MODIFIED:20260212T201602Z
UID:10000996-1786818600-1786831200@callibakersfirehouse.com
SUMMARY:Rivermist
DESCRIPTION:
URL:https://callibakersfirehouse.com/event/rivermist/
CATEGORIES:Live Music
END:VEVENT
END:VCALENDAR