BEGIN:VCALENDAR
VERSION:2.0
PRODID:-// - ECPv6.15.17.1//NONSGML v1.0//EN
CALSCALE:GREGORIAN
METHOD:PUBLISH
X-ORIGINAL-URL:https://callibakersfirehouse.com
X-WR-CALDESC:Events for 
REFRESH-INTERVAL;VALUE=DURATION:PT1H
X-Robots-Tag:noindex
X-PUBLISHED-TTL:PT1H
BEGIN:VTIMEZONE
TZID:America/New_York
BEGIN:DAYLIGHT
TZOFFSETFROM:-0500
TZOFFSETTO:-0400
TZNAME:EDT
DTSTART:20240310T070000
END:DAYLIGHT
BEGIN:STANDARD
TZOFFSETFROM:-0400
TZOFFSETTO:-0500
TZNAME:EST
DTSTART:20241103T060000
END:STANDARD
BEGIN:DAYLIGHT
TZOFFSETFROM:-0500
TZOFFSETTO:-0400
TZNAME:EDT
DTSTART:20250309T070000
END:DAYLIGHT
BEGIN:STANDARD
TZOFFSETFROM:-0400
TZOFFSETTO:-0500
TZNAME:EST
DTSTART:20251102T060000
END:STANDARD
BEGIN:DAYLIGHT
TZOFFSETFROM:-0500
TZOFFSETTO:-0400
TZNAME:EDT
DTSTART:20260308T070000
END:DAYLIGHT
BEGIN:STANDARD
TZOFFSETFROM:-0400
TZOFFSETTO:-0500
TZNAME:EST
DTSTART:20261101T060000
END:STANDARD
BEGIN:DAYLIGHT
TZOFFSETFROM:-0500
TZOFFSETTO:-0400
TZNAME:EDT
DTSTART:20270314T070000
END:DAYLIGHT
BEGIN:STANDARD
TZOFFSETFROM:-0400
TZOFFSETTO:-0500
TZNAME:EST
DTSTART:20271107T060000
END:STANDARD
END:VTIMEZONE
BEGIN:VEVENT
DTSTART;TZID=America/New_York:20260224T180000
DTEND;TZID=America/New_York:20260224T210000
DTSTAMP:20260425T122444
CREATED:20250923T135503Z
LAST-MODIFIED:20260302T152914Z
UID:10001072-1771956000-1771966800@callibakersfirehouse.com
SUMMARY:Travis Proctor Rock & Roll Show
DESCRIPTION:
URL:https://callibakersfirehouse.com/event/travis-proctor/2026-02-24/
CATEGORIES:Event
END:VEVENT
BEGIN:VEVENT
DTSTART;TZID=America/New_York:20260223T180000
DTEND;TZID=America/New_York:20260223T200000
DTSTAMP:20260425T122444
CREATED:20250923T135428Z
LAST-MODIFIED:20250923T135428Z
UID:10000292-1771869600-1771876800@callibakersfirehouse.com
SUMMARY:Music Bingo
DESCRIPTION:
URL:https://callibakersfirehouse.com/event/music-bingo/2026-02-23/
CATEGORIES:Event
END:VEVENT
BEGIN:VEVENT
DTSTART;TZID=America/New_York:20260220T180000
DTEND;TZID=America/New_York:20260220T210000
DTSTAMP:20260425T122444
CREATED:20260122T194055Z
LAST-MODIFIED:20260212T185630Z
UID:10000839-1771610400-1771621200@callibakersfirehouse.com
SUMMARY:Travis Proctor's Rock & Roll Show
DESCRIPTION:
URL:https://callibakersfirehouse.com/event/travis-proctors-rock-roll-show/2026-02-20/
END:VEVENT
BEGIN:VEVENT
DTSTART;TZID=America/New_York:20260218T190000
DTEND;TZID=America/New_York:20260218T210000
DTSTAMP:20260425T122444
CREATED:20250923T135347Z
LAST-MODIFIED:20260420T151148Z
UID:10000031-1771441200-1771448400@callibakersfirehouse.com
SUMMARY:Team Trivia
DESCRIPTION:
URL:https://callibakersfirehouse.com/event/team-trivia/2026-02-18/
CATEGORIES:Event
END:VEVENT
BEGIN:VEVENT
DTSTART;TZID=America/New_York:20260217T180000
DTEND;TZID=America/New_York:20260217T210000
DTSTAMP:20260425T122444
CREATED:20250923T135503Z
LAST-MODIFIED:20260302T152914Z
UID:10001071-1771351200-1771362000@callibakersfirehouse.com
SUMMARY:Travis Proctor Rock & Roll Show
DESCRIPTION:
URL:https://callibakersfirehouse.com/event/travis-proctor/2026-02-17/
CATEGORIES:Event
END:VEVENT
BEGIN:VEVENT
DTSTART;TZID=America/New_York:20260216T180000
DTEND;TZID=America/New_York:20260216T200000
DTSTAMP:20260425T122444
CREATED:20250923T135428Z
LAST-MODIFIED:20250923T135428Z
UID:10000291-1771264800-1771272000@callibakersfirehouse.com
SUMMARY:Music Bingo
DESCRIPTION:
URL:https://callibakersfirehouse.com/event/music-bingo/2026-02-16/
CATEGORIES:Event
END:VEVENT
BEGIN:VEVENT
DTSTART;TZID=America/New_York:20260213T180000
DTEND;TZID=America/New_York:20260213T210000
DTSTAMP:20260425T122444
CREATED:20260122T194055Z
LAST-MODIFIED:20260212T185630Z
UID:10000838-1771005600-1771016400@callibakersfirehouse.com
SUMMARY:Travis Proctor's Rock & Roll Show
DESCRIPTION:
URL:https://callibakersfirehouse.com/event/travis-proctors-rock-roll-show/2026-02-13/
END:VEVENT
BEGIN:VEVENT
DTSTART;TZID=America/New_York:20260211T190000
DTEND;TZID=America/New_York:20260211T210000
DTSTAMP:20260425T122444
CREATED:20250923T135347Z
LAST-MODIFIED:20260420T151148Z
UID:10000030-1770836400-1770843600@callibakersfirehouse.com
SUMMARY:Team Trivia
DESCRIPTION:
URL:https://callibakersfirehouse.com/event/team-trivia/2026-02-11/
CATEGORIES:Event
END:VEVENT
BEGIN:VEVENT
DTSTART;TZID=America/New_York:20260210T180000
DTEND;TZID=America/New_York:20260210T210000
DTSTAMP:20260425T122444
CREATED:20250923T135503Z
LAST-MODIFIED:20260302T152914Z
UID:10001070-1770746400-1770757200@callibakersfirehouse.com
SUMMARY:Travis Proctor Rock & Roll Show
DESCRIPTION:
URL:https://callibakersfirehouse.com/event/travis-proctor/2026-02-10/
CATEGORIES:Event
END:VEVENT
BEGIN:VEVENT
DTSTART;TZID=America/New_York:20260209T180000
DTEND;TZID=America/New_York:20260209T200000
DTSTAMP:20260425T122444
CREATED:20250923T135428Z
LAST-MODIFIED:20250923T135428Z
UID:10000290-1770660000-1770667200@callibakersfirehouse.com
SUMMARY:Music Bingo
DESCRIPTION:
URL:https://callibakersfirehouse.com/event/music-bingo/2026-02-09/
CATEGORIES:Event
END:VEVENT
BEGIN:VEVENT
DTSTART;VALUE=DATE:20260208
DTEND;VALUE=DATE:20260209
DTSTAMP:20260425T122444
CREATED:20260122T194632Z
LAST-MODIFIED:20260122T194632Z
UID:10000919-1770508800-1770595199@callibakersfirehouse.com
SUMMARY:Super Bowl Party
DESCRIPTION:
URL:https://callibakersfirehouse.com/event/super-bowl-party/
CATEGORIES:Event
END:VEVENT
BEGIN:VEVENT
DTSTART;TZID=America/New_York:20260206T180000
DTEND;TZID=America/New_York:20260206T210000
DTSTAMP:20260425T122444
CREATED:20260122T194055Z
LAST-MODIFIED:20260212T185630Z
UID:10000837-1770400800-1770411600@callibakersfirehouse.com
SUMMARY:Travis Proctor's Rock & Roll Show
DESCRIPTION:
URL:https://callibakersfirehouse.com/event/travis-proctors-rock-roll-show/2026-02-06/
END:VEVENT
BEGIN:VEVENT
DTSTART;TZID=America/New_York:20260204T190000
DTEND;TZID=America/New_York:20260204T210000
DTSTAMP:20260425T122444
CREATED:20250923T135347Z
LAST-MODIFIED:20260420T151148Z
UID:10000029-1770231600-1770238800@callibakersfirehouse.com
SUMMARY:Team Trivia
DESCRIPTION:
URL:https://callibakersfirehouse.com/event/team-trivia/2026-02-04/
CATEGORIES:Event
END:VEVENT
BEGIN:VEVENT
DTSTART;TZID=America/New_York:20260203T180000
DTEND;TZID=America/New_York:20260203T210000
DTSTAMP:20260425T122444
CREATED:20250923T135503Z
LAST-MODIFIED:20260302T152914Z
UID:10001069-1770141600-1770152400@callibakersfirehouse.com
SUMMARY:Travis Proctor Rock & Roll Show
DESCRIPTION:
URL:https://callibakersfirehouse.com/event/travis-proctor/2026-02-03/
CATEGORIES:Event
END:VEVENT
BEGIN:VEVENT
DTSTART;TZID=America/New_York:20260202T180000
DTEND;TZID=America/New_York:20260202T200000
DTSTAMP:20260425T122444
CREATED:20250923T135428Z
LAST-MODIFIED:20250923T135428Z
UID:10000289-1770055200-1770062400@callibakersfirehouse.com
SUMMARY:Music Bingo
DESCRIPTION:
URL:https://callibakersfirehouse.com/event/music-bingo/2026-02-02/
CATEGORIES:Event
END:VEVENT
BEGIN:VEVENT
DTSTART;TZID=America/New_York:20260130T180000
DTEND;TZID=America/New_York:20260130T210000
DTSTAMP:20260425T122444
CREATED:20260122T194055Z
LAST-MODIFIED:20260212T185630Z
UID:10000836-1769796000-1769806800@callibakersfirehouse.com
SUMMARY:Travis Proctor's Rock & Roll Show
DESCRIPTION:
URL:https://callibakersfirehouse.com/event/travis-proctors-rock-roll-show/2026-01-30/
END:VEVENT
BEGIN:VEVENT
DTSTART;TZID=America/New_York:20260128T190000
DTEND;TZID=America/New_York:20260128T210000
DTSTAMP:20260425T122444
CREATED:20250923T135347Z
LAST-MODIFIED:20260420T151148Z
UID:10000028-1769626800-1769634000@callibakersfirehouse.com
SUMMARY:Team Trivia
DESCRIPTION:
URL:https://callibakersfirehouse.com/event/team-trivia/2026-01-28/
CATEGORIES:Event
END:VEVENT
BEGIN:VEVENT
DTSTART;TZID=America/New_York:20260127T180000
DTEND;TZID=America/New_York:20260127T210000
DTSTAMP:20260425T122444
CREATED:20250923T135503Z
LAST-MODIFIED:20260302T152914Z
UID:10001068-1769536800-1769547600@callibakersfirehouse.com
SUMMARY:Travis Proctor Rock & Roll Show
DESCRIPTION:
URL:https://callibakersfirehouse.com/event/travis-proctor/2026-01-27/
CATEGORIES:Event
END:VEVENT
BEGIN:VEVENT
DTSTART;TZID=America/New_York:20260126T180000
DTEND;TZID=America/New_York:20260126T200000
DTSTAMP:20260425T122444
CREATED:20250923T135428Z
LAST-MODIFIED:20250923T135428Z
UID:10000288-1769450400-1769457600@callibakersfirehouse.com
SUMMARY:Music Bingo
DESCRIPTION:
URL:https://callibakersfirehouse.com/event/music-bingo/2026-01-26/
CATEGORIES:Event
END:VEVENT
BEGIN:VEVENT
DTSTART;TZID=America/New_York:20260123T180000
DTEND;TZID=America/New_York:20260123T210000
DTSTAMP:20260425T122444
CREATED:20260122T194055Z
LAST-MODIFIED:20260212T185630Z
UID:10000835-1769191200-1769202000@callibakersfirehouse.com
SUMMARY:Travis Proctor's Rock & Roll Show
DESCRIPTION:
URL:https://callibakersfirehouse.com/event/travis-proctors-rock-roll-show/2026-01-23/
END:VEVENT
BEGIN:VEVENT
DTSTART;TZID=America/New_York:20260121T190000
DTEND;TZID=America/New_York:20260121T210000
DTSTAMP:20260425T122444
CREATED:20250923T135347Z
LAST-MODIFIED:20260420T151148Z
UID:10000027-1769022000-1769029200@callibakersfirehouse.com
SUMMARY:Team Trivia
DESCRIPTION:
URL:https://callibakersfirehouse.com/event/team-trivia/2026-01-21/
CATEGORIES:Event
END:VEVENT
BEGIN:VEVENT
DTSTART;TZID=America/New_York:20260120T180000
DTEND;TZID=America/New_York:20260120T210000
DTSTAMP:20260425T122444
CREATED:20250923T135503Z
LAST-MODIFIED:20260302T152914Z
UID:10001067-1768932000-1768942800@callibakersfirehouse.com
SUMMARY:Travis Proctor Rock & Roll Show
DESCRIPTION:
URL:https://callibakersfirehouse.com/event/travis-proctor/2026-01-20/
CATEGORIES:Event
END:VEVENT
BEGIN:VEVENT
DTSTART;TZID=America/New_York:20260119T180000
DTEND;TZID=America/New_York:20260119T200000
DTSTAMP:20260425T122444
CREATED:20250923T135428Z
LAST-MODIFIED:20250923T135428Z
UID:10000287-1768845600-1768852800@callibakersfirehouse.com
SUMMARY:Music Bingo
DESCRIPTION:
URL:https://callibakersfirehouse.com/event/music-bingo/2026-01-19/
CATEGORIES:Event
END:VEVENT
BEGIN:VEVENT
DTSTART;TZID=America/New_York:20260114T190000
DTEND;TZID=America/New_York:20260114T210000
DTSTAMP:20260425T122444
CREATED:20250923T135347Z
LAST-MODIFIED:20260420T151148Z
UID:10000026-1768417200-1768424400@callibakersfirehouse.com
SUMMARY:Team Trivia
DESCRIPTION:
URL:https://callibakersfirehouse.com/event/team-trivia/2026-01-14/
CATEGORIES:Event
END:VEVENT
BEGIN:VEVENT
DTSTART;TZID=America/New_York:20260113T180000
DTEND;TZID=America/New_York:20260113T210000
DTSTAMP:20260425T122444
CREATED:20250923T135503Z
LAST-MODIFIED:20260302T152914Z
UID:10001066-1768327200-1768338000@callibakersfirehouse.com
SUMMARY:Travis Proctor Rock & Roll Show
DESCRIPTION:
URL:https://callibakersfirehouse.com/event/travis-proctor/2026-01-13/
CATEGORIES:Event
END:VEVENT
BEGIN:VEVENT
DTSTART;TZID=America/New_York:20260112T180000
DTEND;TZID=America/New_York:20260112T200000
DTSTAMP:20260425T122444
CREATED:20250923T135428Z
LAST-MODIFIED:20250923T135428Z
UID:10000286-1768240800-1768248000@callibakersfirehouse.com
SUMMARY:Music Bingo
DESCRIPTION:
URL:https://callibakersfirehouse.com/event/music-bingo/2026-01-12/
CATEGORIES:Event
END:VEVENT
BEGIN:VEVENT
DTSTART;TZID=America/New_York:20260107T190000
DTEND;TZID=America/New_York:20260107T210000
DTSTAMP:20260425T122444
CREATED:20250923T135347Z
LAST-MODIFIED:20260420T151148Z
UID:10000025-1767812400-1767819600@callibakersfirehouse.com
SUMMARY:Team Trivia
DESCRIPTION:
URL:https://callibakersfirehouse.com/event/team-trivia/2026-01-07/
CATEGORIES:Event
END:VEVENT
BEGIN:VEVENT
DTSTART;TZID=America/New_York:20260106T180000
DTEND;TZID=America/New_York:20260106T210000
DTSTAMP:20260425T122444
CREATED:20250923T135503Z
LAST-MODIFIED:20260302T152914Z
UID:10001065-1767722400-1767733200@callibakersfirehouse.com
SUMMARY:Travis Proctor Rock & Roll Show
DESCRIPTION:
URL:https://callibakersfirehouse.com/event/travis-proctor/2026-01-06/
CATEGORIES:Event
END:VEVENT
BEGIN:VEVENT
DTSTART;TZID=America/New_York:20260105T180000
DTEND;TZID=America/New_York:20260105T200000
DTSTAMP:20260425T122444
CREATED:20250923T135428Z
LAST-MODIFIED:20250923T135428Z
UID:10000285-1767636000-1767643200@callibakersfirehouse.com
SUMMARY:Music Bingo
DESCRIPTION:
URL:https://callibakersfirehouse.com/event/music-bingo/2026-01-05/
CATEGORIES:Event
END:VEVENT
BEGIN:VEVENT
DTSTART;TZID=America/New_York:20251231T190000
DTEND;TZID=America/New_York:20251231T210000
DTSTAMP:20260425T122444
CREATED:20250923T135347Z
LAST-MODIFIED:20260420T151148Z
UID:10000024-1767207600-1767214800@callibakersfirehouse.com
SUMMARY:Team Trivia
DESCRIPTION:
URL:https://callibakersfirehouse.com/event/team-trivia/2025-12-31/
CATEGORIES:Event
END:VEVENT
END:VCALENDAR