BEGIN:VCALENDAR
VERSION:2.0
PRODID:-// - ECPv6.15.17.1//NONSGML v1.0//EN
CALSCALE:GREGORIAN
METHOD:PUBLISH
X-ORIGINAL-URL:https://callibakersfirehouse.com
X-WR-CALDESC:Events for 
REFRESH-INTERVAL;VALUE=DURATION:PT1H
X-Robots-Tag:noindex
X-PUBLISHED-TTL:PT1H
BEGIN:VTIMEZONE
TZID:America/New_York
BEGIN:DAYLIGHT
TZOFFSETFROM:-0500
TZOFFSETTO:-0400
TZNAME:EDT
DTSTART:20240310T070000
END:DAYLIGHT
BEGIN:STANDARD
TZOFFSETFROM:-0400
TZOFFSETTO:-0500
TZNAME:EST
DTSTART:20241103T060000
END:STANDARD
BEGIN:DAYLIGHT
TZOFFSETFROM:-0500
TZOFFSETTO:-0400
TZNAME:EDT
DTSTART:20250309T070000
END:DAYLIGHT
BEGIN:STANDARD
TZOFFSETFROM:-0400
TZOFFSETTO:-0500
TZNAME:EST
DTSTART:20251102T060000
END:STANDARD
BEGIN:DAYLIGHT
TZOFFSETFROM:-0500
TZOFFSETTO:-0400
TZNAME:EDT
DTSTART:20260308T070000
END:DAYLIGHT
BEGIN:STANDARD
TZOFFSETFROM:-0400
TZOFFSETTO:-0500
TZNAME:EST
DTSTART:20261101T060000
END:STANDARD
BEGIN:DAYLIGHT
TZOFFSETFROM:-0500
TZOFFSETTO:-0400
TZNAME:EDT
DTSTART:20270314T070000
END:DAYLIGHT
BEGIN:STANDARD
TZOFFSETFROM:-0400
TZOFFSETTO:-0500
TZNAME:EST
DTSTART:20271107T060000
END:STANDARD
END:VTIMEZONE
BEGIN:VEVENT
DTSTART;TZID=America/New_York:20260105T180000
DTEND;TZID=America/New_York:20260105T200000
DTSTAMP:20260425T120627
CREATED:20250923T135428Z
LAST-MODIFIED:20250923T135428Z
UID:10000285-1767636000-1767643200@callibakersfirehouse.com
SUMMARY:Music Bingo
DESCRIPTION:
URL:https://callibakersfirehouse.com/event/music-bingo/2026-01-05/
CATEGORIES:Event
END:VEVENT
BEGIN:VEVENT
DTSTART;TZID=America/New_York:20251231T190000
DTEND;TZID=America/New_York:20251231T210000
DTSTAMP:20260425T120627
CREATED:20250923T135347Z
LAST-MODIFIED:20260420T151148Z
UID:10000024-1767207600-1767214800@callibakersfirehouse.com
SUMMARY:Team Trivia
DESCRIPTION:
URL:https://callibakersfirehouse.com/event/team-trivia/2025-12-31/
CATEGORIES:Event
END:VEVENT
BEGIN:VEVENT
DTSTART;TZID=America/New_York:20251230T180000
DTEND;TZID=America/New_York:20251230T210000
DTSTAMP:20260425T120627
CREATED:20250923T135503Z
LAST-MODIFIED:20260302T152914Z
UID:10001064-1767117600-1767128400@callibakersfirehouse.com
SUMMARY:Travis Proctor Rock & Roll Show
DESCRIPTION:
URL:https://callibakersfirehouse.com/event/travis-proctor/2025-12-30/
CATEGORIES:Event
END:VEVENT
BEGIN:VEVENT
DTSTART;TZID=America/New_York:20251229T180000
DTEND;TZID=America/New_York:20251229T200000
DTSTAMP:20260425T120627
CREATED:20250923T135428Z
LAST-MODIFIED:20250923T135428Z
UID:10000284-1767031200-1767038400@callibakersfirehouse.com
SUMMARY:Music Bingo
DESCRIPTION:
URL:https://callibakersfirehouse.com/event/music-bingo/2025-12-29/
CATEGORIES:Event
END:VEVENT
BEGIN:VEVENT
DTSTART;TZID=America/New_York:20251228T180000
DTEND;TZID=America/New_York:20251228T210000
DTSTAMP:20260425T120627
CREATED:20250923T140312Z
LAST-MODIFIED:20250923T140312Z
UID:10000813-1766944800-1766955600@callibakersfirehouse.com
SUMMARY:Billy King
DESCRIPTION:
URL:https://callibakersfirehouse.com/event/billy-king-3/
CATEGORIES:Live Music
END:VEVENT
BEGIN:VEVENT
DTSTART;VALUE=DATE:20251225
DTEND;VALUE=DATE:20251226
DTSTAMP:20260425T120627
CREATED:20250923T140359Z
LAST-MODIFIED:20250923T140359Z
UID:10000816-1766620800-1766707199@callibakersfirehouse.com
SUMMARY:Closed
DESCRIPTION:
URL:https://callibakersfirehouse.com/event/closed-5/
CATEGORIES:Closed
END:VEVENT
BEGIN:VEVENT
DTSTART;TZID=America/New_York:20251224T190000
DTEND;TZID=America/New_York:20251224T210000
DTSTAMP:20260425T120627
CREATED:20250923T135347Z
LAST-MODIFIED:20260420T151148Z
UID:10000023-1766602800-1766610000@callibakersfirehouse.com
SUMMARY:Team Trivia
DESCRIPTION:
URL:https://callibakersfirehouse.com/event/team-trivia/2025-12-24/
CATEGORIES:Event
END:VEVENT
BEGIN:VEVENT
DTSTART;VALUE=DATE:20251224
DTEND;VALUE=DATE:20251225
DTSTAMP:20260425T120627
CREATED:20250923T140344Z
LAST-MODIFIED:20250923T140344Z
UID:10000815-1766534400-1766620799@callibakersfirehouse.com
SUMMARY:Closed
DESCRIPTION:
URL:https://callibakersfirehouse.com/event/closed-4/
CATEGORIES:Closed
END:VEVENT
BEGIN:VEVENT
DTSTART;TZID=America/New_York:20251223T180000
DTEND;TZID=America/New_York:20251223T210000
DTSTAMP:20260425T120627
CREATED:20250923T135503Z
LAST-MODIFIED:20260302T152914Z
UID:10001063-1766512800-1766523600@callibakersfirehouse.com
SUMMARY:Travis Proctor Rock & Roll Show
DESCRIPTION:
URL:https://callibakersfirehouse.com/event/travis-proctor/2025-12-23/
CATEGORIES:Event
END:VEVENT
BEGIN:VEVENT
DTSTART;VALUE=DATE:20251223
DTEND;VALUE=DATE:20251224
DTSTAMP:20260425T120627
CREATED:20250923T140330Z
LAST-MODIFIED:20250923T140330Z
UID:10000814-1766448000-1766534399@callibakersfirehouse.com
SUMMARY:Closed
DESCRIPTION:
URL:https://callibakersfirehouse.com/event/closed-3/
CATEGORIES:Closed
END:VEVENT
BEGIN:VEVENT
DTSTART;TZID=America/New_York:20251222T180000
DTEND;TZID=America/New_York:20251222T200000
DTSTAMP:20260425T120627
CREATED:20250923T135428Z
LAST-MODIFIED:20250923T135428Z
UID:10000283-1766426400-1766433600@callibakersfirehouse.com
SUMMARY:Music Bingo
DESCRIPTION:
URL:https://callibakersfirehouse.com/event/music-bingo/2025-12-22/
CATEGORIES:Event
END:VEVENT
BEGIN:VEVENT
DTSTART;TZID=America/New_York:20251218T180000
DTEND;TZID=America/New_York:20251218T210000
DTSTAMP:20260425T120627
CREATED:20250923T140254Z
LAST-MODIFIED:20250923T140254Z
UID:10000812-1766080800-1766091600@callibakersfirehouse.com
SUMMARY:Brandon Clark
DESCRIPTION:
URL:https://callibakersfirehouse.com/event/brandon-clark/
CATEGORIES:Live Music
END:VEVENT
BEGIN:VEVENT
DTSTART;TZID=America/New_York:20251217T190000
DTEND;TZID=America/New_York:20251217T210000
DTSTAMP:20260425T120627
CREATED:20250923T135347Z
LAST-MODIFIED:20260420T151148Z
UID:10000022-1765998000-1766005200@callibakersfirehouse.com
SUMMARY:Team Trivia
DESCRIPTION:
URL:https://callibakersfirehouse.com/event/team-trivia/2025-12-17/
CATEGORIES:Event
END:VEVENT
BEGIN:VEVENT
DTSTART;TZID=America/New_York:20251216T180000
DTEND;TZID=America/New_York:20251216T210000
DTSTAMP:20260425T120627
CREATED:20250923T135503Z
LAST-MODIFIED:20260302T152914Z
UID:10001062-1765908000-1765918800@callibakersfirehouse.com
SUMMARY:Travis Proctor Rock & Roll Show
DESCRIPTION:
URL:https://callibakersfirehouse.com/event/travis-proctor/2025-12-16/
CATEGORIES:Event
END:VEVENT
BEGIN:VEVENT
DTSTART;TZID=America/New_York:20251215T180000
DTEND;TZID=America/New_York:20251215T200000
DTSTAMP:20260425T120627
CREATED:20250923T135428Z
LAST-MODIFIED:20250923T135428Z
UID:10000282-1765821600-1765828800@callibakersfirehouse.com
SUMMARY:Music Bingo
DESCRIPTION:
URL:https://callibakersfirehouse.com/event/music-bingo/2025-12-15/
CATEGORIES:Event
END:VEVENT
BEGIN:VEVENT
DTSTART;TZID=America/New_York:20251211T180000
DTEND;TZID=America/New_York:20251211T210000
DTSTAMP:20260425T120627
CREATED:20250923T140235Z
LAST-MODIFIED:20250923T140235Z
UID:10000811-1765476000-1765486800@callibakersfirehouse.com
SUMMARY:Sweet Sweet
DESCRIPTION:
URL:https://callibakersfirehouse.com/event/sweet-sweet-2/
CATEGORIES:Live Music
END:VEVENT
BEGIN:VEVENT
DTSTART;TZID=America/New_York:20251210T190000
DTEND;TZID=America/New_York:20251210T210000
DTSTAMP:20260425T120627
CREATED:20250923T135347Z
LAST-MODIFIED:20260420T151148Z
UID:10000021-1765393200-1765400400@callibakersfirehouse.com
SUMMARY:Team Trivia
DESCRIPTION:
URL:https://callibakersfirehouse.com/event/team-trivia/2025-12-10/
CATEGORIES:Event
END:VEVENT
BEGIN:VEVENT
DTSTART;TZID=America/New_York:20251209T180000
DTEND;TZID=America/New_York:20251209T210000
DTSTAMP:20260425T120627
CREATED:20250923T135503Z
LAST-MODIFIED:20260302T152914Z
UID:10001061-1765303200-1765314000@callibakersfirehouse.com
SUMMARY:Travis Proctor Rock & Roll Show
DESCRIPTION:
URL:https://callibakersfirehouse.com/event/travis-proctor/2025-12-09/
CATEGORIES:Event
END:VEVENT
BEGIN:VEVENT
DTSTART;TZID=America/New_York:20251208T180000
DTEND;TZID=America/New_York:20251208T200000
DTSTAMP:20260425T120627
CREATED:20250923T135428Z
LAST-MODIFIED:20250923T135428Z
UID:10000281-1765216800-1765224000@callibakersfirehouse.com
SUMMARY:Music Bingo
DESCRIPTION:
URL:https://callibakersfirehouse.com/event/music-bingo/2025-12-08/
CATEGORIES:Event
END:VEVENT
BEGIN:VEVENT
DTSTART;TZID=America/New_York:20251204T180000
DTEND;TZID=America/New_York:20251204T210000
DTSTAMP:20260425T120627
CREATED:20250923T140215Z
LAST-MODIFIED:20250923T140215Z
UID:10000810-1764871200-1764882000@callibakersfirehouse.com
SUMMARY:Mike Waters
DESCRIPTION:
URL:https://callibakersfirehouse.com/event/mike-waters-2/
CATEGORIES:Live Music
END:VEVENT
BEGIN:VEVENT
DTSTART;TZID=America/New_York:20251203T190000
DTEND;TZID=America/New_York:20251203T210000
DTSTAMP:20260425T120627
CREATED:20250923T135347Z
LAST-MODIFIED:20260420T151148Z
UID:10000020-1764788400-1764795600@callibakersfirehouse.com
SUMMARY:Team Trivia
DESCRIPTION:
URL:https://callibakersfirehouse.com/event/team-trivia/2025-12-03/
CATEGORIES:Event
END:VEVENT
BEGIN:VEVENT
DTSTART;TZID=America/New_York:20251202T180000
DTEND;TZID=America/New_York:20251202T210000
DTSTAMP:20260425T120627
CREATED:20250923T135503Z
LAST-MODIFIED:20260302T152914Z
UID:10001060-1764698400-1764709200@callibakersfirehouse.com
SUMMARY:Travis Proctor Rock & Roll Show
DESCRIPTION:
URL:https://callibakersfirehouse.com/event/travis-proctor/2025-12-02/
CATEGORIES:Event
END:VEVENT
BEGIN:VEVENT
DTSTART;TZID=America/New_York:20251201T180000
DTEND;TZID=America/New_York:20251201T200000
DTSTAMP:20260425T120627
CREATED:20250923T135428Z
LAST-MODIFIED:20250923T135428Z
UID:10000280-1764612000-1764619200@callibakersfirehouse.com
SUMMARY:Music Bingo
DESCRIPTION:
URL:https://callibakersfirehouse.com/event/music-bingo/2025-12-01/
CATEGORIES:Event
END:VEVENT
BEGIN:VEVENT
DTSTART;VALUE=DATE:20251127
DTEND;VALUE=DATE:20251128
DTSTAMP:20260425T120627
CREATED:20250923T140142Z
LAST-MODIFIED:20250923T140142Z
UID:10000809-1764201600-1764287999@callibakersfirehouse.com
SUMMARY:Closed
DESCRIPTION:
URL:https://callibakersfirehouse.com/event/closed-2/
CATEGORIES:Closed
END:VEVENT
BEGIN:VEVENT
DTSTART;TZID=America/New_York:20251126T190000
DTEND;TZID=America/New_York:20251126T210000
DTSTAMP:20260425T120627
CREATED:20250923T135347Z
LAST-MODIFIED:20260420T151148Z
UID:10000019-1764183600-1764190800@callibakersfirehouse.com
SUMMARY:Team Trivia
DESCRIPTION:
URL:https://callibakersfirehouse.com/event/team-trivia/2025-11-26/
CATEGORIES:Event
END:VEVENT
BEGIN:VEVENT
DTSTART;VALUE=DATE:20251126
DTEND;VALUE=DATE:20251127
DTSTAMP:20260425T120627
CREATED:20250923T140121Z
LAST-MODIFIED:20250923T140153Z
UID:10000808-1764115200-1764201599@callibakersfirehouse.com
SUMMARY:Closed
DESCRIPTION:
URL:https://callibakersfirehouse.com/event/closed/
CATEGORIES:Closed
END:VEVENT
BEGIN:VEVENT
DTSTART;TZID=America/New_York:20251125T180000
DTEND;TZID=America/New_York:20251125T210000
DTSTAMP:20260425T120627
CREATED:20250923T135503Z
LAST-MODIFIED:20260302T152914Z
UID:10001059-1764093600-1764104400@callibakersfirehouse.com
SUMMARY:Travis Proctor Rock & Roll Show
DESCRIPTION:
URL:https://callibakersfirehouse.com/event/travis-proctor/2025-11-25/
CATEGORIES:Event
END:VEVENT
BEGIN:VEVENT
DTSTART;TZID=America/New_York:20251124T180000
DTEND;TZID=America/New_York:20251124T200000
DTSTAMP:20260425T120627
CREATED:20250923T135428Z
LAST-MODIFIED:20250923T135428Z
UID:10000279-1764007200-1764014400@callibakersfirehouse.com
SUMMARY:Music Bingo
DESCRIPTION:
URL:https://callibakersfirehouse.com/event/music-bingo/2025-11-24/
CATEGORIES:Event
END:VEVENT
BEGIN:VEVENT
DTSTART;TZID=America/New_York:20251123T180000
DTEND;TZID=America/New_York:20251123T210000
DTSTAMP:20260425T120627
CREATED:20250923T140034Z
LAST-MODIFIED:20250923T140034Z
UID:10000807-1763920800-1763931600@callibakersfirehouse.com
SUMMARY:Cam Nesbitt
DESCRIPTION:
URL:https://callibakersfirehouse.com/event/cam-nesbitt-2/
CATEGORIES:Live Music
END:VEVENT
BEGIN:VEVENT
DTSTART;TZID=America/New_York:20251119T190000
DTEND;TZID=America/New_York:20251119T210000
DTSTAMP:20260425T120627
CREATED:20250923T135347Z
LAST-MODIFIED:20260420T151148Z
UID:10000018-1763578800-1763586000@callibakersfirehouse.com
SUMMARY:Team Trivia
DESCRIPTION:
URL:https://callibakersfirehouse.com/event/team-trivia/2025-11-19/
CATEGORIES:Event
END:VEVENT
END:VCALENDAR