BEGIN:VCALENDAR
VERSION:2.0
PRODID:-// - ECPv6.15.17.1//NONSGML v1.0//EN
CALSCALE:GREGORIAN
METHOD:PUBLISH
X-ORIGINAL-URL:https://callibakersfirehouse.com
X-WR-CALDESC:Events for 
REFRESH-INTERVAL;VALUE=DURATION:PT1H
X-Robots-Tag:noindex
X-PUBLISHED-TTL:PT1H
BEGIN:VTIMEZONE
TZID:America/New_York
BEGIN:DAYLIGHT
TZOFFSETFROM:-0500
TZOFFSETTO:-0400
TZNAME:EDT
DTSTART:20250309T070000
END:DAYLIGHT
BEGIN:STANDARD
TZOFFSETFROM:-0400
TZOFFSETTO:-0500
TZNAME:EST
DTSTART:20251102T060000
END:STANDARD
BEGIN:DAYLIGHT
TZOFFSETFROM:-0500
TZOFFSETTO:-0400
TZNAME:EDT
DTSTART:20260308T070000
END:DAYLIGHT
BEGIN:STANDARD
TZOFFSETFROM:-0400
TZOFFSETTO:-0500
TZNAME:EST
DTSTART:20261101T060000
END:STANDARD
BEGIN:DAYLIGHT
TZOFFSETFROM:-0500
TZOFFSETTO:-0400
TZNAME:EDT
DTSTART:20270314T070000
END:DAYLIGHT
BEGIN:STANDARD
TZOFFSETFROM:-0400
TZOFFSETTO:-0500
TZNAME:EST
DTSTART:20271107T060000
END:STANDARD
BEGIN:DAYLIGHT
TZOFFSETFROM:-0500
TZOFFSETTO:-0400
TZNAME:EDT
DTSTART:20280312T070000
END:DAYLIGHT
BEGIN:STANDARD
TZOFFSETFROM:-0400
TZOFFSETTO:-0500
TZNAME:EST
DTSTART:20281105T060000
END:STANDARD
END:VTIMEZONE
BEGIN:VEVENT
DTSTART;TZID=America/New_York:20261116T180000
DTEND;TZID=America/New_York:20261116T200000
DTSTAMP:20260425T085747
CREATED:20250923T135428Z
LAST-MODIFIED:20250923T135428Z
UID:10000330-1794852000-1794859200@callibakersfirehouse.com
SUMMARY:Music Bingo
DESCRIPTION:
URL:https://callibakersfirehouse.com/event/music-bingo/2026-11-16/
CATEGORIES:Event
END:VEVENT
BEGIN:VEVENT
DTSTART;TZID=America/New_York:20261117T180000
DTEND;TZID=America/New_York:20261117T210000
DTSTAMP:20260425T085747
CREATED:20250923T135503Z
LAST-MODIFIED:20260302T152914Z
UID:10001110-1794938400-1794949200@callibakersfirehouse.com
SUMMARY:Travis Proctor Rock & Roll Show
DESCRIPTION:
URL:https://callibakersfirehouse.com/event/travis-proctor/2026-11-17/
CATEGORIES:Event
END:VEVENT
BEGIN:VEVENT
DTSTART;TZID=America/New_York:20261120T180000
DTEND;TZID=America/New_York:20261120T210000
DTSTAMP:20260425T085747
CREATED:20260212T201250Z
LAST-MODIFIED:20260212T201250Z
UID:10000934-1795197600-1795208400@callibakersfirehouse.com
SUMMARY:Travis Proctor’s Rock & Roll Show
DESCRIPTION:
URL:https://callibakersfirehouse.com/event/travis-proctors-rock-roll-show-4/2026-11-20/
CATEGORIES:Live Music
END:VEVENT
BEGIN:VEVENT
DTSTART;TZID=America/New_York:20261123T180000
DTEND;TZID=America/New_York:20261123T200000
DTSTAMP:20260425T085747
CREATED:20250923T135428Z
LAST-MODIFIED:20250923T135428Z
UID:10000331-1795456800-1795464000@callibakersfirehouse.com
SUMMARY:Music Bingo
DESCRIPTION:
URL:https://callibakersfirehouse.com/event/music-bingo/2026-11-23/
CATEGORIES:Event
END:VEVENT
BEGIN:VEVENT
DTSTART;TZID=America/New_York:20261124T180000
DTEND;TZID=America/New_York:20261124T210000
DTSTAMP:20260425T085747
CREATED:20250923T135503Z
LAST-MODIFIED:20260302T152914Z
UID:10001111-1795543200-1795554000@callibakersfirehouse.com
SUMMARY:Travis Proctor Rock & Roll Show
DESCRIPTION:
URL:https://callibakersfirehouse.com/event/travis-proctor/2026-11-24/
CATEGORIES:Event
END:VEVENT
BEGIN:VEVENT
DTSTART;TZID=America/New_York:20261127T180000
DTEND;TZID=America/New_York:20261127T210000
DTSTAMP:20260425T085747
CREATED:20260212T201250Z
LAST-MODIFIED:20260212T201250Z
UID:10000935-1795802400-1795813200@callibakersfirehouse.com
SUMMARY:Travis Proctor’s Rock & Roll Show
DESCRIPTION:
URL:https://callibakersfirehouse.com/event/travis-proctors-rock-roll-show-4/2026-11-27/
CATEGORIES:Live Music
END:VEVENT
BEGIN:VEVENT
DTSTART;TZID=America/New_York:20261130T180000
DTEND;TZID=America/New_York:20261130T200000
DTSTAMP:20260425T085747
CREATED:20250923T135428Z
LAST-MODIFIED:20250923T135428Z
UID:10000332-1796061600-1796068800@callibakersfirehouse.com
SUMMARY:Music Bingo
DESCRIPTION:
URL:https://callibakersfirehouse.com/event/music-bingo/2026-11-30/
CATEGORIES:Event
END:VEVENT
BEGIN:VEVENT
DTSTART;TZID=America/New_York:20261201T180000
DTEND;TZID=America/New_York:20261201T210000
DTSTAMP:20260425T085747
CREATED:20250923T135503Z
LAST-MODIFIED:20260302T152914Z
UID:10001112-1796148000-1796158800@callibakersfirehouse.com
SUMMARY:Travis Proctor Rock & Roll Show
DESCRIPTION:
URL:https://callibakersfirehouse.com/event/travis-proctor/2026-12-01/
CATEGORIES:Event
END:VEVENT
BEGIN:VEVENT
DTSTART;TZID=America/New_York:20261204T180000
DTEND;TZID=America/New_York:20261204T210000
DTSTAMP:20260425T085747
CREATED:20260212T201250Z
LAST-MODIFIED:20260212T201250Z
UID:10000936-1796407200-1796418000@callibakersfirehouse.com
SUMMARY:Travis Proctor’s Rock & Roll Show
DESCRIPTION:
URL:https://callibakersfirehouse.com/event/travis-proctors-rock-roll-show-4/2026-12-04/
CATEGORIES:Live Music
END:VEVENT
BEGIN:VEVENT
DTSTART;TZID=America/New_York:20261207T180000
DTEND;TZID=America/New_York:20261207T200000
DTSTAMP:20260425T085747
CREATED:20250923T135428Z
LAST-MODIFIED:20250923T135428Z
UID:10000333-1796666400-1796673600@callibakersfirehouse.com
SUMMARY:Music Bingo
DESCRIPTION:
URL:https://callibakersfirehouse.com/event/music-bingo/2026-12-07/
CATEGORIES:Event
END:VEVENT
BEGIN:VEVENT
DTSTART;TZID=America/New_York:20261208T180000
DTEND;TZID=America/New_York:20261208T210000
DTSTAMP:20260425T085747
CREATED:20250923T135503Z
LAST-MODIFIED:20260302T152914Z
UID:10001113-1796752800-1796763600@callibakersfirehouse.com
SUMMARY:Travis Proctor Rock & Roll Show
DESCRIPTION:
URL:https://callibakersfirehouse.com/event/travis-proctor/2026-12-08/
CATEGORIES:Event
END:VEVENT
BEGIN:VEVENT
DTSTART;TZID=America/New_York:20261211T180000
DTEND;TZID=America/New_York:20261211T210000
DTSTAMP:20260425T085747
CREATED:20260212T201250Z
LAST-MODIFIED:20260212T201250Z
UID:10000937-1797012000-1797022800@callibakersfirehouse.com
SUMMARY:Travis Proctor’s Rock & Roll Show
DESCRIPTION:
URL:https://callibakersfirehouse.com/event/travis-proctors-rock-roll-show-4/2026-12-11/
CATEGORIES:Live Music
END:VEVENT
BEGIN:VEVENT
DTSTART;TZID=America/New_York:20261214T180000
DTEND;TZID=America/New_York:20261214T200000
DTSTAMP:20260425T085747
CREATED:20250923T135428Z
LAST-MODIFIED:20250923T135428Z
UID:10000334-1797271200-1797278400@callibakersfirehouse.com
SUMMARY:Music Bingo
DESCRIPTION:
URL:https://callibakersfirehouse.com/event/music-bingo/2026-12-14/
CATEGORIES:Event
END:VEVENT
BEGIN:VEVENT
DTSTART;TZID=America/New_York:20261215T180000
DTEND;TZID=America/New_York:20261215T210000
DTSTAMP:20260425T085747
CREATED:20250923T135503Z
LAST-MODIFIED:20260302T152914Z
UID:10001114-1797357600-1797368400@callibakersfirehouse.com
SUMMARY:Travis Proctor Rock & Roll Show
DESCRIPTION:
URL:https://callibakersfirehouse.com/event/travis-proctor/2026-12-15/
CATEGORIES:Event
END:VEVENT
BEGIN:VEVENT
DTSTART;TZID=America/New_York:20261218T180000
DTEND;TZID=America/New_York:20261218T210000
DTSTAMP:20260425T085747
CREATED:20260212T201250Z
LAST-MODIFIED:20260212T201250Z
UID:10000938-1797616800-1797627600@callibakersfirehouse.com
SUMMARY:Travis Proctor’s Rock & Roll Show
DESCRIPTION:
URL:https://callibakersfirehouse.com/event/travis-proctors-rock-roll-show-4/2026-12-18/
CATEGORIES:Live Music
END:VEVENT
BEGIN:VEVENT
DTSTART;TZID=America/New_York:20261221T180000
DTEND;TZID=America/New_York:20261221T200000
DTSTAMP:20260425T085747
CREATED:20250923T135428Z
LAST-MODIFIED:20250923T135428Z
UID:10000335-1797876000-1797883200@callibakersfirehouse.com
SUMMARY:Music Bingo
DESCRIPTION:
URL:https://callibakersfirehouse.com/event/music-bingo/2026-12-21/
CATEGORIES:Event
END:VEVENT
BEGIN:VEVENT
DTSTART;TZID=America/New_York:20261222T180000
DTEND;TZID=America/New_York:20261222T210000
DTSTAMP:20260425T085747
CREATED:20250923T135503Z
LAST-MODIFIED:20260302T152914Z
UID:10001115-1797962400-1797973200@callibakersfirehouse.com
SUMMARY:Travis Proctor Rock & Roll Show
DESCRIPTION:
URL:https://callibakersfirehouse.com/event/travis-proctor/2026-12-22/
CATEGORIES:Event
END:VEVENT
BEGIN:VEVENT
DTSTART;TZID=America/New_York:20261225T180000
DTEND;TZID=America/New_York:20261225T210000
DTSTAMP:20260425T085747
CREATED:20260212T201250Z
LAST-MODIFIED:20260212T201250Z
UID:10000939-1798221600-1798232400@callibakersfirehouse.com
SUMMARY:Travis Proctor’s Rock & Roll Show
DESCRIPTION:
URL:https://callibakersfirehouse.com/event/travis-proctors-rock-roll-show-4/2026-12-25/
CATEGORIES:Live Music
END:VEVENT
BEGIN:VEVENT
DTSTART;TZID=America/New_York:20261228T180000
DTEND;TZID=America/New_York:20261228T200000
DTSTAMP:20260425T085747
CREATED:20250923T135428Z
LAST-MODIFIED:20250923T135428Z
UID:10000336-1798480800-1798488000@callibakersfirehouse.com
SUMMARY:Music Bingo
DESCRIPTION:
URL:https://callibakersfirehouse.com/event/music-bingo/2026-12-28/
CATEGORIES:Event
END:VEVENT
BEGIN:VEVENT
DTSTART;TZID=America/New_York:20261229T180000
DTEND;TZID=America/New_York:20261229T210000
DTSTAMP:20260425T085747
CREATED:20250923T135503Z
LAST-MODIFIED:20260302T152914Z
UID:10001116-1798567200-1798578000@callibakersfirehouse.com
SUMMARY:Travis Proctor Rock & Roll Show
DESCRIPTION:
URL:https://callibakersfirehouse.com/event/travis-proctor/2026-12-29/
CATEGORIES:Event
END:VEVENT
BEGIN:VEVENT
DTSTART;TZID=America/New_York:20270101T180000
DTEND;TZID=America/New_York:20270101T210000
DTSTAMP:20260425T085747
CREATED:20260212T201250Z
LAST-MODIFIED:20260212T201250Z
UID:10000940-1798826400-1798837200@callibakersfirehouse.com
SUMMARY:Travis Proctor’s Rock & Roll Show
DESCRIPTION:
URL:https://callibakersfirehouse.com/event/travis-proctors-rock-roll-show-4/2027-01-01/
CATEGORIES:Live Music
END:VEVENT
BEGIN:VEVENT
DTSTART;TZID=America/New_York:20270104T180000
DTEND;TZID=America/New_York:20270104T200000
DTSTAMP:20260425T085747
CREATED:20250923T135428Z
LAST-MODIFIED:20250923T135428Z
UID:10000337-1799085600-1799092800@callibakersfirehouse.com
SUMMARY:Music Bingo
DESCRIPTION:
URL:https://callibakersfirehouse.com/event/music-bingo/2027-01-04/
CATEGORIES:Event
END:VEVENT
BEGIN:VEVENT
DTSTART;TZID=America/New_York:20270105T180000
DTEND;TZID=America/New_York:20270105T210000
DTSTAMP:20260425T085747
CREATED:20250923T135503Z
LAST-MODIFIED:20260302T152914Z
UID:10001117-1799172000-1799182800@callibakersfirehouse.com
SUMMARY:Travis Proctor Rock & Roll Show
DESCRIPTION:
URL:https://callibakersfirehouse.com/event/travis-proctor/2027-01-05/
CATEGORIES:Event
END:VEVENT
BEGIN:VEVENT
DTSTART;TZID=America/New_York:20270108T180000
DTEND;TZID=America/New_York:20270108T210000
DTSTAMP:20260425T085747
CREATED:20260212T201250Z
LAST-MODIFIED:20260212T201250Z
UID:10000941-1799431200-1799442000@callibakersfirehouse.com
SUMMARY:Travis Proctor’s Rock & Roll Show
DESCRIPTION:
URL:https://callibakersfirehouse.com/event/travis-proctors-rock-roll-show-4/2027-01-08/
CATEGORIES:Live Music
END:VEVENT
BEGIN:VEVENT
DTSTART;TZID=America/New_York:20270111T180000
DTEND;TZID=America/New_York:20270111T200000
DTSTAMP:20260425T085747
CREATED:20250923T135428Z
LAST-MODIFIED:20250923T135428Z
UID:10000338-1799690400-1799697600@callibakersfirehouse.com
SUMMARY:Music Bingo
DESCRIPTION:
URL:https://callibakersfirehouse.com/event/music-bingo/2027-01-11/
CATEGORIES:Event
END:VEVENT
BEGIN:VEVENT
DTSTART;TZID=America/New_York:20270112T180000
DTEND;TZID=America/New_York:20270112T210000
DTSTAMP:20260425T085747
CREATED:20250923T135503Z
LAST-MODIFIED:20260302T152914Z
UID:10001118-1799776800-1799787600@callibakersfirehouse.com
SUMMARY:Travis Proctor Rock & Roll Show
DESCRIPTION:
URL:https://callibakersfirehouse.com/event/travis-proctor/2027-01-12/
CATEGORIES:Event
END:VEVENT
BEGIN:VEVENT
DTSTART;TZID=America/New_York:20270115T180000
DTEND;TZID=America/New_York:20270115T210000
DTSTAMP:20260425T085747
CREATED:20260212T201250Z
LAST-MODIFIED:20260212T201250Z
UID:10000942-1800036000-1800046800@callibakersfirehouse.com
SUMMARY:Travis Proctor’s Rock & Roll Show
DESCRIPTION:
URL:https://callibakersfirehouse.com/event/travis-proctors-rock-roll-show-4/2027-01-15/
CATEGORIES:Live Music
END:VEVENT
BEGIN:VEVENT
DTSTART;TZID=America/New_York:20270118T180000
DTEND;TZID=America/New_York:20270118T200000
DTSTAMP:20260425T085747
CREATED:20250923T135428Z
LAST-MODIFIED:20250923T135428Z
UID:10000339-1800295200-1800302400@callibakersfirehouse.com
SUMMARY:Music Bingo
DESCRIPTION:
URL:https://callibakersfirehouse.com/event/music-bingo/2027-01-18/
CATEGORIES:Event
END:VEVENT
BEGIN:VEVENT
DTSTART;TZID=America/New_York:20270119T180000
DTEND;TZID=America/New_York:20270119T210000
DTSTAMP:20260425T085747
CREATED:20250923T135503Z
LAST-MODIFIED:20260302T152914Z
UID:10001119-1800381600-1800392400@callibakersfirehouse.com
SUMMARY:Travis Proctor Rock & Roll Show
DESCRIPTION:
URL:https://callibakersfirehouse.com/event/travis-proctor/2027-01-19/
CATEGORIES:Event
END:VEVENT
BEGIN:VEVENT
DTSTART;TZID=America/New_York:20270122T180000
DTEND;TZID=America/New_York:20270122T210000
DTSTAMP:20260425T085747
CREATED:20260212T201250Z
LAST-MODIFIED:20260212T201250Z
UID:10000943-1800640800-1800651600@callibakersfirehouse.com
SUMMARY:Travis Proctor’s Rock & Roll Show
DESCRIPTION:
URL:https://callibakersfirehouse.com/event/travis-proctors-rock-roll-show-4/2027-01-22/
CATEGORIES:Live Music
END:VEVENT
END:VCALENDAR