BEGIN:VCALENDAR
VERSION:2.0
PRODID:-// - ECPv6.15.17.1//NONSGML v1.0//EN
CALSCALE:GREGORIAN
METHOD:PUBLISH
X-ORIGINAL-URL:https://callibakersfirehouse.com
X-WR-CALDESC:Events for 
REFRESH-INTERVAL;VALUE=DURATION:PT1H
X-Robots-Tag:noindex
X-PUBLISHED-TTL:PT1H
BEGIN:VTIMEZONE
TZID:America/New_York
BEGIN:DAYLIGHT
TZOFFSETFROM:-0500
TZOFFSETTO:-0400
TZNAME:EDT
DTSTART:20240310T070000
END:DAYLIGHT
BEGIN:STANDARD
TZOFFSETFROM:-0400
TZOFFSETTO:-0500
TZNAME:EST
DTSTART:20241103T060000
END:STANDARD
BEGIN:DAYLIGHT
TZOFFSETFROM:-0500
TZOFFSETTO:-0400
TZNAME:EDT
DTSTART:20250309T070000
END:DAYLIGHT
BEGIN:STANDARD
TZOFFSETFROM:-0400
TZOFFSETTO:-0500
TZNAME:EST
DTSTART:20251102T060000
END:STANDARD
BEGIN:DAYLIGHT
TZOFFSETFROM:-0500
TZOFFSETTO:-0400
TZNAME:EDT
DTSTART:20260308T070000
END:DAYLIGHT
BEGIN:STANDARD
TZOFFSETFROM:-0400
TZOFFSETTO:-0500
TZNAME:EST
DTSTART:20261101T060000
END:STANDARD
END:VTIMEZONE
BEGIN:VEVENT
DTSTART;TZID=America/New_York:20251008T190000
DTEND;TZID=America/New_York:20251008T210000
DTSTAMP:20260425T121859
CREATED:20250923T135347Z
LAST-MODIFIED:20260420T151148Z
UID:10000012-1759950000-1759957200@callibakersfirehouse.com
SUMMARY:Team Trivia
DESCRIPTION:
URL:https://callibakersfirehouse.com/event/team-trivia/2025-10-08/
CATEGORIES:Event
END:VEVENT
BEGIN:VEVENT
DTSTART;TZID=America/New_York:20251007T180000
DTEND;TZID=America/New_York:20251007T210000
DTSTAMP:20260425T121859
CREATED:20250923T135503Z
LAST-MODIFIED:20260302T152914Z
UID:10001052-1759860000-1759870800@callibakersfirehouse.com
SUMMARY:Travis Proctor Rock & Roll Show
DESCRIPTION:
URL:https://callibakersfirehouse.com/event/travis-proctor/2025-10-07/
CATEGORIES:Event
END:VEVENT
BEGIN:VEVENT
DTSTART;TZID=America/New_York:20251006T180000
DTEND;TZID=America/New_York:20251006T200000
DTSTAMP:20260425T121859
CREATED:20250923T135428Z
LAST-MODIFIED:20250923T135428Z
UID:10000272-1759773600-1759780800@callibakersfirehouse.com
SUMMARY:Music Bingo
DESCRIPTION:
URL:https://callibakersfirehouse.com/event/music-bingo/2025-10-06/
CATEGORIES:Event
END:VEVENT
BEGIN:VEVENT
DTSTART;TZID=America/New_York:20251005T180000
DTEND;TZID=America/New_York:20251005T210000
DTSTAMP:20260425T121859
CREATED:20250923T135535Z
LAST-MODIFIED:20250923T135535Z
UID:10000793-1759687200-1759698000@callibakersfirehouse.com
SUMMARY:Sweet Sweet
DESCRIPTION:
URL:https://callibakersfirehouse.com/event/sweet-sweet/
CATEGORIES:Live Music
END:VEVENT
BEGIN:VEVENT
DTSTART;TZID=America/New_York:20251002T183000
DTEND;TZID=America/New_York:20251002T213000
DTSTAMP:20260425T121859
CREATED:20250923T135236Z
LAST-MODIFIED:20250923T135236Z
UID:10000009-1759429800-1759440600@callibakersfirehouse.com
SUMMARY:Tastes Like Chicken
DESCRIPTION:
URL:https://callibakersfirehouse.com/event/tastes-like-chicken/
CATEGORIES:Live Music
END:VEVENT
BEGIN:VEVENT
DTSTART;TZID=America/New_York:20251001T190000
DTEND;TZID=America/New_York:20251001T210000
DTSTAMP:20260425T121859
CREATED:20250923T135347Z
LAST-MODIFIED:20260420T151148Z
UID:10000011-1759345200-1759352400@callibakersfirehouse.com
SUMMARY:Team Trivia
DESCRIPTION:
URL:https://callibakersfirehouse.com/event/team-trivia/2025-10-01/
CATEGORIES:Event
END:VEVENT
BEGIN:VEVENT
DTSTART;TZID=America/New_York:20250930T180000
DTEND;TZID=America/New_York:20250930T210000
DTSTAMP:20260425T121859
CREATED:20250923T135503Z
LAST-MODIFIED:20260302T152914Z
UID:10001051-1759255200-1759266000@callibakersfirehouse.com
SUMMARY:Travis Proctor Rock & Roll Show
DESCRIPTION:
URL:https://callibakersfirehouse.com/event/travis-proctor/2025-09-30/
CATEGORIES:Event
END:VEVENT
BEGIN:VEVENT
DTSTART;TZID=America/New_York:20250929T180000
DTEND;TZID=America/New_York:20250929T200000
DTSTAMP:20260425T121859
CREATED:20250923T135428Z
LAST-MODIFIED:20250923T135428Z
UID:10000271-1759168800-1759176000@callibakersfirehouse.com
SUMMARY:Music Bingo
DESCRIPTION:
URL:https://callibakersfirehouse.com/event/music-bingo/2025-09-29/
CATEGORIES:Event
END:VEVENT
BEGIN:VEVENT
DTSTART;TZID=America/New_York:20250928T180000
DTEND;TZID=America/New_York:20250928T210000
DTSTAMP:20260425T121859
CREATED:20250923T135211Z
LAST-MODIFIED:20250923T135211Z
UID:10000008-1759082400-1759093200@callibakersfirehouse.com
SUMMARY:Cam Nesbitt
DESCRIPTION:
URL:https://callibakersfirehouse.com/event/cam-nesbitt/
CATEGORIES:Live Music
END:VEVENT
BEGIN:VEVENT
DTSTART;TZID=America/New_York:20250926T183000
DTEND;TZID=America/New_York:20250926T193000
DTSTAMP:20260425T121859
CREATED:20250923T134902Z
LAST-MODIFIED:20250923T135121Z
UID:10000007-1758911400-1758915000@callibakersfirehouse.com
SUMMARY:Gary Lowder & Smokin Hot
DESCRIPTION:
URL:https://callibakersfirehouse.com/event/gary-lowder-smokin-hot/
CATEGORIES:Live Music
END:VEVENT
BEGIN:VEVENT
DTSTART;TZID=America/New_York:20250925T180000
DTEND;TZID=America/New_York:20250925T210000
DTSTAMP:20260425T121859
CREATED:20250923T134839Z
LAST-MODIFIED:20250923T135145Z
UID:10000006-1758823200-1758834000@callibakersfirehouse.com
SUMMARY:Mark Daffer
DESCRIPTION:
URL:https://callibakersfirehouse.com/event/mark-daffer/
CATEGORIES:Live Music
END:VEVENT
BEGIN:VEVENT
DTSTART;TZID=America/New_York:20250924T190000
DTEND;TZID=America/New_York:20250924T210000
DTSTAMP:20260425T121859
CREATED:20250923T135347Z
LAST-MODIFIED:20260420T151148Z
UID:10000010-1758740400-1758747600@callibakersfirehouse.com
SUMMARY:Team Trivia
DESCRIPTION:
URL:https://callibakersfirehouse.com/event/team-trivia/2025-09-24/
CATEGORIES:Event
END:VEVENT
BEGIN:VEVENT
DTSTART;TZID=America/New_York:20250923T180000
DTEND;TZID=America/New_York:20250923T210000
DTSTAMP:20260425T121859
CREATED:20250923T135503Z
LAST-MODIFIED:20260302T152914Z
UID:10001050-1758650400-1758661200@callibakersfirehouse.com
SUMMARY:Travis Proctor Rock & Roll Show
DESCRIPTION:
URL:https://callibakersfirehouse.com/event/travis-proctor/2025-09-23/
CATEGORIES:Event
END:VEVENT
END:VCALENDAR