BEGIN:VCALENDAR
VERSION:2.0
PRODID:-// - ECPv6.15.17.1//NONSGML v1.0//EN
CALSCALE:GREGORIAN
METHOD:PUBLISH
X-ORIGINAL-URL:https://callibakersfirehouse.com
X-WR-CALDESC:Events for 
REFRESH-INTERVAL;VALUE=DURATION:PT1H
X-Robots-Tag:noindex
X-PUBLISHED-TTL:PT1H
BEGIN:VTIMEZONE
TZID:America/New_York
BEGIN:DAYLIGHT
TZOFFSETFROM:-0500
TZOFFSETTO:-0400
TZNAME:EDT
DTSTART:20260308T070000
END:DAYLIGHT
BEGIN:STANDARD
TZOFFSETFROM:-0400
TZOFFSETTO:-0500
TZNAME:EST
DTSTART:20261101T060000
END:STANDARD
BEGIN:DAYLIGHT
TZOFFSETFROM:-0500
TZOFFSETTO:-0400
TZNAME:EDT
DTSTART:20270314T070000
END:DAYLIGHT
BEGIN:STANDARD
TZOFFSETFROM:-0400
TZOFFSETTO:-0500
TZNAME:EST
DTSTART:20271107T060000
END:STANDARD
BEGIN:DAYLIGHT
TZOFFSETFROM:-0500
TZOFFSETTO:-0400
TZNAME:EDT
DTSTART:20280312T070000
END:DAYLIGHT
BEGIN:STANDARD
TZOFFSETFROM:-0400
TZOFFSETTO:-0500
TZNAME:EST
DTSTART:20281105T060000
END:STANDARD
END:VTIMEZONE
BEGIN:VEVENT
DTSTART;TZID=America/New_York:20270101T180000
DTEND;TZID=America/New_York:20270101T210000
DTSTAMP:20260425T115225
CREATED:20260212T201250Z
LAST-MODIFIED:20260212T201250Z
UID:10000940-1798826400-1798837200@callibakersfirehouse.com
SUMMARY:Travis Proctor’s Rock & Roll Show
DESCRIPTION:
URL:https://callibakersfirehouse.com/event/travis-proctors-rock-roll-show-4/2027-01-01/
CATEGORIES:Live Music
END:VEVENT
BEGIN:VEVENT
DTSTART;TZID=America/New_York:20270104T180000
DTEND;TZID=America/New_York:20270104T200000
DTSTAMP:20260425T115225
CREATED:20250923T135428Z
LAST-MODIFIED:20250923T135428Z
UID:10000337-1799085600-1799092800@callibakersfirehouse.com
SUMMARY:Music Bingo
DESCRIPTION:
URL:https://callibakersfirehouse.com/event/music-bingo/2027-01-04/
CATEGORIES:Event
END:VEVENT
BEGIN:VEVENT
DTSTART;TZID=America/New_York:20270105T180000
DTEND;TZID=America/New_York:20270105T210000
DTSTAMP:20260425T115225
CREATED:20250923T135503Z
LAST-MODIFIED:20260302T152914Z
UID:10001117-1799172000-1799182800@callibakersfirehouse.com
SUMMARY:Travis Proctor Rock & Roll Show
DESCRIPTION:
URL:https://callibakersfirehouse.com/event/travis-proctor/2027-01-05/
CATEGORIES:Event
END:VEVENT
BEGIN:VEVENT
DTSTART;TZID=America/New_York:20270108T180000
DTEND;TZID=America/New_York:20270108T210000
DTSTAMP:20260425T115225
CREATED:20260212T201250Z
LAST-MODIFIED:20260212T201250Z
UID:10000941-1799431200-1799442000@callibakersfirehouse.com
SUMMARY:Travis Proctor’s Rock & Roll Show
DESCRIPTION:
URL:https://callibakersfirehouse.com/event/travis-proctors-rock-roll-show-4/2027-01-08/
CATEGORIES:Live Music
END:VEVENT
BEGIN:VEVENT
DTSTART;TZID=America/New_York:20270111T180000
DTEND;TZID=America/New_York:20270111T200000
DTSTAMP:20260425T115225
CREATED:20250923T135428Z
LAST-MODIFIED:20250923T135428Z
UID:10000338-1799690400-1799697600@callibakersfirehouse.com
SUMMARY:Music Bingo
DESCRIPTION:
URL:https://callibakersfirehouse.com/event/music-bingo/2027-01-11/
CATEGORIES:Event
END:VEVENT
BEGIN:VEVENT
DTSTART;TZID=America/New_York:20270112T180000
DTEND;TZID=America/New_York:20270112T210000
DTSTAMP:20260425T115225
CREATED:20250923T135503Z
LAST-MODIFIED:20260302T152914Z
UID:10001118-1799776800-1799787600@callibakersfirehouse.com
SUMMARY:Travis Proctor Rock & Roll Show
DESCRIPTION:
URL:https://callibakersfirehouse.com/event/travis-proctor/2027-01-12/
CATEGORIES:Event
END:VEVENT
BEGIN:VEVENT
DTSTART;TZID=America/New_York:20270115T180000
DTEND;TZID=America/New_York:20270115T210000
DTSTAMP:20260425T115225
CREATED:20260212T201250Z
LAST-MODIFIED:20260212T201250Z
UID:10000942-1800036000-1800046800@callibakersfirehouse.com
SUMMARY:Travis Proctor’s Rock & Roll Show
DESCRIPTION:
URL:https://callibakersfirehouse.com/event/travis-proctors-rock-roll-show-4/2027-01-15/
CATEGORIES:Live Music
END:VEVENT
BEGIN:VEVENT
DTSTART;TZID=America/New_York:20270118T180000
DTEND;TZID=America/New_York:20270118T200000
DTSTAMP:20260425T115225
CREATED:20250923T135428Z
LAST-MODIFIED:20250923T135428Z
UID:10000339-1800295200-1800302400@callibakersfirehouse.com
SUMMARY:Music Bingo
DESCRIPTION:
URL:https://callibakersfirehouse.com/event/music-bingo/2027-01-18/
CATEGORIES:Event
END:VEVENT
BEGIN:VEVENT
DTSTART;TZID=America/New_York:20270119T180000
DTEND;TZID=America/New_York:20270119T210000
DTSTAMP:20260425T115225
CREATED:20250923T135503Z
LAST-MODIFIED:20260302T152914Z
UID:10001119-1800381600-1800392400@callibakersfirehouse.com
SUMMARY:Travis Proctor Rock & Roll Show
DESCRIPTION:
URL:https://callibakersfirehouse.com/event/travis-proctor/2027-01-19/
CATEGORIES:Event
END:VEVENT
BEGIN:VEVENT
DTSTART;TZID=America/New_York:20270122T180000
DTEND;TZID=America/New_York:20270122T210000
DTSTAMP:20260425T115225
CREATED:20260212T201250Z
LAST-MODIFIED:20260212T201250Z
UID:10000943-1800640800-1800651600@callibakersfirehouse.com
SUMMARY:Travis Proctor’s Rock & Roll Show
DESCRIPTION:
URL:https://callibakersfirehouse.com/event/travis-proctors-rock-roll-show-4/2027-01-22/
CATEGORIES:Live Music
END:VEVENT
BEGIN:VEVENT
DTSTART;TZID=America/New_York:20270125T180000
DTEND;TZID=America/New_York:20270125T200000
DTSTAMP:20260425T115225
CREATED:20250923T135428Z
LAST-MODIFIED:20250923T135428Z
UID:10000340-1800900000-1800907200@callibakersfirehouse.com
SUMMARY:Music Bingo
DESCRIPTION:
URL:https://callibakersfirehouse.com/event/music-bingo/2027-01-25/
CATEGORIES:Event
END:VEVENT
BEGIN:VEVENT
DTSTART;TZID=America/New_York:20270126T180000
DTEND;TZID=America/New_York:20270126T210000
DTSTAMP:20260425T115225
CREATED:20250923T135503Z
LAST-MODIFIED:20260302T152914Z
UID:10001120-1800986400-1800997200@callibakersfirehouse.com
SUMMARY:Travis Proctor Rock & Roll Show
DESCRIPTION:
URL:https://callibakersfirehouse.com/event/travis-proctor/2027-01-26/
CATEGORIES:Event
END:VEVENT
BEGIN:VEVENT
DTSTART;TZID=America/New_York:20270129T180000
DTEND;TZID=America/New_York:20270129T210000
DTSTAMP:20260425T115225
CREATED:20260212T201250Z
LAST-MODIFIED:20260212T201250Z
UID:10000944-1801245600-1801256400@callibakersfirehouse.com
SUMMARY:Travis Proctor’s Rock & Roll Show
DESCRIPTION:
URL:https://callibakersfirehouse.com/event/travis-proctors-rock-roll-show-4/2027-01-29/
CATEGORIES:Live Music
END:VEVENT
BEGIN:VEVENT
DTSTART;TZID=America/New_York:20270201T180000
DTEND;TZID=America/New_York:20270201T200000
DTSTAMP:20260425T115225
CREATED:20250923T135428Z
LAST-MODIFIED:20250923T135428Z
UID:10000341-1801504800-1801512000@callibakersfirehouse.com
SUMMARY:Music Bingo
DESCRIPTION:
URL:https://callibakersfirehouse.com/event/music-bingo/2027-02-01/
CATEGORIES:Event
END:VEVENT
BEGIN:VEVENT
DTSTART;TZID=America/New_York:20270202T180000
DTEND;TZID=America/New_York:20270202T210000
DTSTAMP:20260425T115225
CREATED:20250923T135503Z
LAST-MODIFIED:20260302T152914Z
UID:10001121-1801591200-1801602000@callibakersfirehouse.com
SUMMARY:Travis Proctor Rock & Roll Show
DESCRIPTION:
URL:https://callibakersfirehouse.com/event/travis-proctor/2027-02-02/
CATEGORIES:Event
END:VEVENT
BEGIN:VEVENT
DTSTART;TZID=America/New_York:20270205T180000
DTEND;TZID=America/New_York:20270205T210000
DTSTAMP:20260425T115225
CREATED:20260212T201250Z
LAST-MODIFIED:20260212T201250Z
UID:10000945-1801850400-1801861200@callibakersfirehouse.com
SUMMARY:Travis Proctor’s Rock & Roll Show
DESCRIPTION:
URL:https://callibakersfirehouse.com/event/travis-proctors-rock-roll-show-4/2027-02-05/
CATEGORIES:Live Music
END:VEVENT
BEGIN:VEVENT
DTSTART;TZID=America/New_York:20270208T180000
DTEND;TZID=America/New_York:20270208T200000
DTSTAMP:20260425T115225
CREATED:20250923T135428Z
LAST-MODIFIED:20250923T135428Z
UID:10000342-1802109600-1802116800@callibakersfirehouse.com
SUMMARY:Music Bingo
DESCRIPTION:
URL:https://callibakersfirehouse.com/event/music-bingo/2027-02-08/
CATEGORIES:Event
END:VEVENT
BEGIN:VEVENT
DTSTART;TZID=America/New_York:20270209T180000
DTEND;TZID=America/New_York:20270209T210000
DTSTAMP:20260425T115225
CREATED:20250923T135503Z
LAST-MODIFIED:20260302T152914Z
UID:10001122-1802196000-1802206800@callibakersfirehouse.com
SUMMARY:Travis Proctor Rock & Roll Show
DESCRIPTION:
URL:https://callibakersfirehouse.com/event/travis-proctor/2027-02-09/
CATEGORIES:Event
END:VEVENT
BEGIN:VEVENT
DTSTART;TZID=America/New_York:20270212T180000
DTEND;TZID=America/New_York:20270212T210000
DTSTAMP:20260425T115225
CREATED:20260212T201250Z
LAST-MODIFIED:20260212T201250Z
UID:10000946-1802455200-1802466000@callibakersfirehouse.com
SUMMARY:Travis Proctor’s Rock & Roll Show
DESCRIPTION:
URL:https://callibakersfirehouse.com/event/travis-proctors-rock-roll-show-4/2027-02-12/
CATEGORIES:Live Music
END:VEVENT
BEGIN:VEVENT
DTSTART;TZID=America/New_York:20270215T180000
DTEND;TZID=America/New_York:20270215T200000
DTSTAMP:20260425T115225
CREATED:20250923T135428Z
LAST-MODIFIED:20250923T135428Z
UID:10000343-1802714400-1802721600@callibakersfirehouse.com
SUMMARY:Music Bingo
DESCRIPTION:
URL:https://callibakersfirehouse.com/event/music-bingo/2027-02-15/
CATEGORIES:Event
END:VEVENT
BEGIN:VEVENT
DTSTART;TZID=America/New_York:20270216T180000
DTEND;TZID=America/New_York:20270216T210000
DTSTAMP:20260425T115225
CREATED:20250923T135503Z
LAST-MODIFIED:20260302T152914Z
UID:10001123-1802800800-1802811600@callibakersfirehouse.com
SUMMARY:Travis Proctor Rock & Roll Show
DESCRIPTION:
URL:https://callibakersfirehouse.com/event/travis-proctor/2027-02-16/
CATEGORIES:Event
END:VEVENT
BEGIN:VEVENT
DTSTART;TZID=America/New_York:20270219T180000
DTEND;TZID=America/New_York:20270219T210000
DTSTAMP:20260425T115225
CREATED:20260212T201250Z
LAST-MODIFIED:20260212T201250Z
UID:10000947-1803060000-1803070800@callibakersfirehouse.com
SUMMARY:Travis Proctor’s Rock & Roll Show
DESCRIPTION:
URL:https://callibakersfirehouse.com/event/travis-proctors-rock-roll-show-4/2027-02-19/
CATEGORIES:Live Music
END:VEVENT
BEGIN:VEVENT
DTSTART;TZID=America/New_York:20270222T180000
DTEND;TZID=America/New_York:20270222T200000
DTSTAMP:20260425T115225
CREATED:20250923T135428Z
LAST-MODIFIED:20250923T135428Z
UID:10000344-1803319200-1803326400@callibakersfirehouse.com
SUMMARY:Music Bingo
DESCRIPTION:
URL:https://callibakersfirehouse.com/event/music-bingo/2027-02-22/
CATEGORIES:Event
END:VEVENT
BEGIN:VEVENT
DTSTART;TZID=America/New_York:20270223T180000
DTEND;TZID=America/New_York:20270223T210000
DTSTAMP:20260425T115225
CREATED:20250923T135503Z
LAST-MODIFIED:20260302T152914Z
UID:10001124-1803405600-1803416400@callibakersfirehouse.com
SUMMARY:Travis Proctor Rock & Roll Show
DESCRIPTION:
URL:https://callibakersfirehouse.com/event/travis-proctor/2027-02-23/
CATEGORIES:Event
END:VEVENT
BEGIN:VEVENT
DTSTART;TZID=America/New_York:20270226T180000
DTEND;TZID=America/New_York:20270226T210000
DTSTAMP:20260425T115225
CREATED:20260212T201250Z
LAST-MODIFIED:20260212T201250Z
UID:10000948-1803664800-1803675600@callibakersfirehouse.com
SUMMARY:Travis Proctor’s Rock & Roll Show
DESCRIPTION:
URL:https://callibakersfirehouse.com/event/travis-proctors-rock-roll-show-4/2027-02-26/
CATEGORIES:Live Music
END:VEVENT
BEGIN:VEVENT
DTSTART;TZID=America/New_York:20270301T180000
DTEND;TZID=America/New_York:20270301T200000
DTSTAMP:20260425T115225
CREATED:20250923T135428Z
LAST-MODIFIED:20250923T135428Z
UID:10000345-1803924000-1803931200@callibakersfirehouse.com
SUMMARY:Music Bingo
DESCRIPTION:
URL:https://callibakersfirehouse.com/event/music-bingo/2027-03-01/
CATEGORIES:Event
END:VEVENT
BEGIN:VEVENT
DTSTART;TZID=America/New_York:20270302T180000
DTEND;TZID=America/New_York:20270302T210000
DTSTAMP:20260425T115225
CREATED:20250923T135503Z
LAST-MODIFIED:20260302T152914Z
UID:10001125-1804010400-1804021200@callibakersfirehouse.com
SUMMARY:Travis Proctor Rock & Roll Show
DESCRIPTION:
URL:https://callibakersfirehouse.com/event/travis-proctor/2027-03-02/
CATEGORIES:Event
END:VEVENT
BEGIN:VEVENT
DTSTART;TZID=America/New_York:20270305T180000
DTEND;TZID=America/New_York:20270305T210000
DTSTAMP:20260425T115225
CREATED:20260212T201250Z
LAST-MODIFIED:20260212T201250Z
UID:10000949-1804269600-1804280400@callibakersfirehouse.com
SUMMARY:Travis Proctor’s Rock & Roll Show
DESCRIPTION:
URL:https://callibakersfirehouse.com/event/travis-proctors-rock-roll-show-4/2027-03-05/
CATEGORIES:Live Music
END:VEVENT
BEGIN:VEVENT
DTSTART;TZID=America/New_York:20270308T180000
DTEND;TZID=America/New_York:20270308T200000
DTSTAMP:20260425T115225
CREATED:20250923T135428Z
LAST-MODIFIED:20250923T135428Z
UID:10000346-1804528800-1804536000@callibakersfirehouse.com
SUMMARY:Music Bingo
DESCRIPTION:
URL:https://callibakersfirehouse.com/event/music-bingo/2027-03-08/
CATEGORIES:Event
END:VEVENT
BEGIN:VEVENT
DTSTART;TZID=America/New_York:20270309T180000
DTEND;TZID=America/New_York:20270309T210000
DTSTAMP:20260425T115225
CREATED:20250923T135503Z
LAST-MODIFIED:20260302T152914Z
UID:10001126-1804615200-1804626000@callibakersfirehouse.com
SUMMARY:Travis Proctor Rock & Roll Show
DESCRIPTION:
URL:https://callibakersfirehouse.com/event/travis-proctor/2027-03-09/
CATEGORIES:Event
END:VEVENT
END:VCALENDAR