BEGIN:VCALENDAR
VERSION:2.0
PRODID:-// - ECPv6.15.17.1//NONSGML v1.0//EN
CALSCALE:GREGORIAN
METHOD:PUBLISH
X-ORIGINAL-URL:https://callibakersfirehouse.com
X-WR-CALDESC:Events for 
REFRESH-INTERVAL;VALUE=DURATION:PT1H
X-Robots-Tag:noindex
X-PUBLISHED-TTL:PT1H
BEGIN:VTIMEZONE
TZID:America/New_York
BEGIN:DAYLIGHT
TZOFFSETFROM:-0500
TZOFFSETTO:-0400
TZNAME:EDT
DTSTART:20250309T070000
END:DAYLIGHT
BEGIN:STANDARD
TZOFFSETFROM:-0400
TZOFFSETTO:-0500
TZNAME:EST
DTSTART:20251102T060000
END:STANDARD
BEGIN:DAYLIGHT
TZOFFSETFROM:-0500
TZOFFSETTO:-0400
TZNAME:EDT
DTSTART:20260308T070000
END:DAYLIGHT
BEGIN:STANDARD
TZOFFSETFROM:-0400
TZOFFSETTO:-0500
TZNAME:EST
DTSTART:20261101T060000
END:STANDARD
BEGIN:DAYLIGHT
TZOFFSETFROM:-0500
TZOFFSETTO:-0400
TZNAME:EDT
DTSTART:20270314T070000
END:DAYLIGHT
BEGIN:STANDARD
TZOFFSETFROM:-0400
TZOFFSETTO:-0500
TZNAME:EST
DTSTART:20271107T060000
END:STANDARD
END:VTIMEZONE
BEGIN:VEVENT
DTSTART;VALUE=DATE:20260530
DTEND;VALUE=DATE:20260531
DTSTAMP:20260424T122755
CREATED:20260212T210706Z
LAST-MODIFIED:20260212T210706Z
UID:10001047-1780099200-1780185599@callibakersfirehouse.com
SUMMARY:Dog Days Event
DESCRIPTION:
URL:https://callibakersfirehouse.com/event/dog-days-event/
CATEGORIES:Event
END:VEVENT
BEGIN:VEVENT
DTSTART;TZID=America/New_York:20260601T180000
DTEND;TZID=America/New_York:20260601T200000
DTSTAMP:20260424T122755
CREATED:20250923T135428Z
LAST-MODIFIED:20250923T135428Z
UID:10000306-1780336800-1780344000@callibakersfirehouse.com
SUMMARY:Music Bingo
DESCRIPTION:
URL:https://callibakersfirehouse.com/event/music-bingo/2026-06-01/
CATEGORIES:Event
END:VEVENT
BEGIN:VEVENT
DTSTART;TZID=America/New_York:20260602T180000
DTEND;TZID=America/New_York:20260602T210000
DTSTAMP:20260424T122755
CREATED:20250923T135503Z
LAST-MODIFIED:20260302T152914Z
UID:10001086-1780423200-1780434000@callibakersfirehouse.com
SUMMARY:Travis Proctor Rock & Roll Show
DESCRIPTION:
URL:https://callibakersfirehouse.com/event/travis-proctor/2026-06-02/
CATEGORIES:Event
END:VEVENT
BEGIN:VEVENT
DTSTART;TZID=America/New_York:20260604T180000
DTEND;TZID=America/New_York:20260604T210000
DTSTAMP:20260424T122755
CREATED:20260122T194216Z
LAST-MODIFIED:20260122T194216Z
UID:10000906-1780596000-1780606800@callibakersfirehouse.com
SUMMARY:Travis Proctor's Rock & Roll Show
DESCRIPTION:
URL:https://callibakersfirehouse.com/event/travis-proctors-rock-roll-show-2/2026-06-04/
CATEGORIES:Live Music
END:VEVENT
BEGIN:VEVENT
DTSTART;TZID=America/New_York:20260605T183000
DTEND;TZID=America/New_York:20260605T220000
DTSTAMP:20260424T122755
CREATED:20260212T204953Z
LAST-MODIFIED:20260212T204953Z
UID:10001034-1780684200-1780696800@callibakersfirehouse.com
SUMMARY:Sean Smith
DESCRIPTION:
URL:https://callibakersfirehouse.com/event/sean-smith/
CATEGORIES:Live Music
END:VEVENT
BEGIN:VEVENT
DTSTART;TZID=America/New_York:20260606T183000
DTEND;TZID=America/New_York:20260606T220000
DTSTAMP:20260424T122755
CREATED:20260212T204923Z
LAST-MODIFIED:20260212T204923Z
UID:10001033-1780770600-1780783200@callibakersfirehouse.com
SUMMARY:Dom Wier
DESCRIPTION:
URL:https://callibakersfirehouse.com/event/dom-wier-4/2026-06-06/
CATEGORIES:Live Music
END:VEVENT
BEGIN:VEVENT
DTSTART;TZID=America/New_York:20260608T180000
DTEND;TZID=America/New_York:20260608T200000
DTSTAMP:20260424T122755
CREATED:20250923T135428Z
LAST-MODIFIED:20250923T135428Z
UID:10000307-1780941600-1780948800@callibakersfirehouse.com
SUMMARY:Music Bingo
DESCRIPTION:
URL:https://callibakersfirehouse.com/event/music-bingo/2026-06-08/
CATEGORIES:Event
END:VEVENT
BEGIN:VEVENT
DTSTART;TZID=America/New_York:20260609T180000
DTEND;TZID=America/New_York:20260609T210000
DTSTAMP:20260424T122755
CREATED:20250923T135503Z
LAST-MODIFIED:20260302T152914Z
UID:10001087-1781028000-1781038800@callibakersfirehouse.com
SUMMARY:Travis Proctor Rock & Roll Show
DESCRIPTION:
URL:https://callibakersfirehouse.com/event/travis-proctor/2026-06-09/
CATEGORIES:Event
END:VEVENT
BEGIN:VEVENT
DTSTART;TZID=America/New_York:20260611T180000
DTEND;TZID=America/New_York:20260611T210000
DTSTAMP:20260424T122755
CREATED:20260122T194216Z
LAST-MODIFIED:20260122T194216Z
UID:10000907-1781200800-1781211600@callibakersfirehouse.com
SUMMARY:Travis Proctor's Rock & Roll Show
DESCRIPTION:
URL:https://callibakersfirehouse.com/event/travis-proctors-rock-roll-show-2/2026-06-11/
CATEGORIES:Live Music
END:VEVENT
BEGIN:VEVENT
DTSTART;TZID=America/New_York:20260612T183000
DTEND;TZID=America/New_York:20260612T220000
DTSTAMP:20260424T122755
CREATED:20260212T205030Z
LAST-MODIFIED:20260212T205030Z
UID:10001035-1781289000-1781301600@callibakersfirehouse.com
SUMMARY:Steve Dennis
DESCRIPTION:
URL:https://callibakersfirehouse.com/event/steve-dennis-5/
CATEGORIES:Live Music
END:VEVENT
BEGIN:VEVENT
DTSTART;TZID=America/New_York:20260615T180000
DTEND;TZID=America/New_York:20260615T200000
DTSTAMP:20260424T122755
CREATED:20250923T135428Z
LAST-MODIFIED:20250923T135428Z
UID:10000308-1781546400-1781553600@callibakersfirehouse.com
SUMMARY:Music Bingo
DESCRIPTION:
URL:https://callibakersfirehouse.com/event/music-bingo/2026-06-15/
CATEGORIES:Event
END:VEVENT
BEGIN:VEVENT
DTSTART;TZID=America/New_York:20260616T180000
DTEND;TZID=America/New_York:20260616T210000
DTSTAMP:20260424T122755
CREATED:20250923T135503Z
LAST-MODIFIED:20260302T152914Z
UID:10001088-1781632800-1781643600@callibakersfirehouse.com
SUMMARY:Travis Proctor Rock & Roll Show
DESCRIPTION:
URL:https://callibakersfirehouse.com/event/travis-proctor/2026-06-16/
CATEGORIES:Event
END:VEVENT
BEGIN:VEVENT
DTSTART;TZID=America/New_York:20260618T180000
DTEND;TZID=America/New_York:20260618T210000
DTSTAMP:20260424T122755
CREATED:20260122T194216Z
LAST-MODIFIED:20260122T194216Z
UID:10000908-1781805600-1781816400@callibakersfirehouse.com
SUMMARY:Travis Proctor's Rock & Roll Show
DESCRIPTION:
URL:https://callibakersfirehouse.com/event/travis-proctors-rock-roll-show-2/2026-06-18/
CATEGORIES:Live Music
END:VEVENT
BEGIN:VEVENT
DTSTART;TZID=America/New_York:20260619T183000
DTEND;TZID=America/New_York:20260619T220000
DTSTAMP:20260424T122755
CREATED:20260212T205102Z
LAST-MODIFIED:20260212T205102Z
UID:10001036-1781893800-1781906400@callibakersfirehouse.com
SUMMARY:3rd Shot Drop
DESCRIPTION:
URL:https://callibakersfirehouse.com/event/3rd-shot-drop/
CATEGORIES:Live Music
END:VEVENT
BEGIN:VEVENT
DTSTART;TZID=America/New_York:20260620T183000
DTEND;TZID=America/New_York:20260620T220000
DTSTAMP:20260424T122755
CREATED:20260212T205129Z
LAST-MODIFIED:20260212T205129Z
UID:10001037-1781980200-1781992800@callibakersfirehouse.com
SUMMARY:Band On Fire
DESCRIPTION:
URL:https://callibakersfirehouse.com/event/band-on-fire/
CATEGORIES:Live Music
END:VEVENT
BEGIN:VEVENT
DTSTART;TZID=America/New_York:20260622T180000
DTEND;TZID=America/New_York:20260622T200000
DTSTAMP:20260424T122755
CREATED:20250923T135428Z
LAST-MODIFIED:20250923T135428Z
UID:10000309-1782151200-1782158400@callibakersfirehouse.com
SUMMARY:Music Bingo
DESCRIPTION:
URL:https://callibakersfirehouse.com/event/music-bingo/2026-06-22/
CATEGORIES:Event
END:VEVENT
BEGIN:VEVENT
DTSTART;TZID=America/New_York:20260623T180000
DTEND;TZID=America/New_York:20260623T210000
DTSTAMP:20260424T122755
CREATED:20250923T135503Z
LAST-MODIFIED:20260302T152914Z
UID:10001089-1782237600-1782248400@callibakersfirehouse.com
SUMMARY:Travis Proctor Rock & Roll Show
DESCRIPTION:
URL:https://callibakersfirehouse.com/event/travis-proctor/2026-06-23/
CATEGORIES:Event
END:VEVENT
BEGIN:VEVENT
DTSTART;TZID=America/New_York:20260625T180000
DTEND;TZID=America/New_York:20260625T210000
DTSTAMP:20260424T122755
CREATED:20260122T194216Z
LAST-MODIFIED:20260122T194216Z
UID:10000909-1782410400-1782421200@callibakersfirehouse.com
SUMMARY:Travis Proctor's Rock & Roll Show
DESCRIPTION:
URL:https://callibakersfirehouse.com/event/travis-proctors-rock-roll-show-2/2026-06-25/
CATEGORIES:Live Music
END:VEVENT
BEGIN:VEVENT
DTSTART;TZID=America/New_York:20260626T183000
DTEND;TZID=America/New_York:20260626T220000
DTSTAMP:20260424T122755
CREATED:20260212T205159Z
LAST-MODIFIED:20260212T205159Z
UID:10001038-1782498600-1782511200@callibakersfirehouse.com
SUMMARY:King Tide
DESCRIPTION:
URL:https://callibakersfirehouse.com/event/king-tide-2/
CATEGORIES:Live Music
END:VEVENT
BEGIN:VEVENT
DTSTART;TZID=America/New_York:20260627T183000
DTEND;TZID=America/New_York:20260627T220000
DTSTAMP:20260424T122755
CREATED:20260212T205246Z
LAST-MODIFIED:20260212T205246Z
UID:10001039-1782585000-1782597600@callibakersfirehouse.com
SUMMARY:City Lights
DESCRIPTION:
URL:https://callibakersfirehouse.com/event/city-lights/
CATEGORIES:Live Music
END:VEVENT
BEGIN:VEVENT
DTSTART;TZID=America/New_York:20260629T180000
DTEND;TZID=America/New_York:20260629T200000
DTSTAMP:20260424T122755
CREATED:20250923T135428Z
LAST-MODIFIED:20250923T135428Z
UID:10000310-1782756000-1782763200@callibakersfirehouse.com
SUMMARY:Music Bingo
DESCRIPTION:
URL:https://callibakersfirehouse.com/event/music-bingo/2026-06-29/
CATEGORIES:Event
END:VEVENT
BEGIN:VEVENT
DTSTART;TZID=America/New_York:20260630T180000
DTEND;TZID=America/New_York:20260630T210000
DTSTAMP:20260424T122755
CREATED:20250923T135503Z
LAST-MODIFIED:20260302T152914Z
UID:10001090-1782842400-1782853200@callibakersfirehouse.com
SUMMARY:Travis Proctor Rock & Roll Show
DESCRIPTION:
URL:https://callibakersfirehouse.com/event/travis-proctor/2026-06-30/
CATEGORIES:Event
END:VEVENT
BEGIN:VEVENT
DTSTART;TZID=America/New_York:20260702T180000
DTEND;TZID=America/New_York:20260702T210000
DTSTAMP:20260424T122755
CREATED:20260122T194216Z
LAST-MODIFIED:20260122T194216Z
UID:10000910-1783015200-1783026000@callibakersfirehouse.com
SUMMARY:Travis Proctor's Rock & Roll Show
DESCRIPTION:
URL:https://callibakersfirehouse.com/event/travis-proctors-rock-roll-show-2/2026-07-02/
CATEGORIES:Live Music
END:VEVENT
BEGIN:VEVENT
DTSTART;TZID=America/New_York:20260703T183000
DTEND;TZID=America/New_York:20260703T220000
DTSTAMP:20260424T122755
CREATED:20260212T205827Z
LAST-MODIFIED:20260212T205827Z
UID:10001040-1783103400-1783116000@callibakersfirehouse.com
SUMMARY:Paul Grimshaw Band
DESCRIPTION:
URL:https://callibakersfirehouse.com/event/paul-grimshaw-band/
CATEGORIES:Live Music
END:VEVENT
BEGIN:VEVENT
DTSTART;TZID=America/New_York:20260706T180000
DTEND;TZID=America/New_York:20260706T200000
DTSTAMP:20260424T122755
CREATED:20250923T135428Z
LAST-MODIFIED:20250923T135428Z
UID:10000311-1783360800-1783368000@callibakersfirehouse.com
SUMMARY:Music Bingo
DESCRIPTION:
URL:https://callibakersfirehouse.com/event/music-bingo/2026-07-06/
CATEGORIES:Event
END:VEVENT
BEGIN:VEVENT
DTSTART;TZID=America/New_York:20260707T180000
DTEND;TZID=America/New_York:20260707T210000
DTSTAMP:20260424T122755
CREATED:20250923T135503Z
LAST-MODIFIED:20260302T152914Z
UID:10001091-1783447200-1783458000@callibakersfirehouse.com
SUMMARY:Travis Proctor Rock & Roll Show
DESCRIPTION:
URL:https://callibakersfirehouse.com/event/travis-proctor/2026-07-07/
CATEGORIES:Event
END:VEVENT
BEGIN:VEVENT
DTSTART;TZID=America/New_York:20260709T180000
DTEND;TZID=America/New_York:20260709T210000
DTSTAMP:20260424T122755
CREATED:20260122T194216Z
LAST-MODIFIED:20260122T194216Z
UID:10000911-1783620000-1783630800@callibakersfirehouse.com
SUMMARY:Travis Proctor's Rock & Roll Show
DESCRIPTION:
URL:https://callibakersfirehouse.com/event/travis-proctors-rock-roll-show-2/2026-07-09/
CATEGORIES:Live Music
END:VEVENT
BEGIN:VEVENT
DTSTART;TZID=America/New_York:20260710T183000
DTEND;TZID=America/New_York:20260710T220000
DTSTAMP:20260424T122755
CREATED:20260212T205903Z
LAST-MODIFIED:20260212T205903Z
UID:10001041-1783708200-1783720800@callibakersfirehouse.com
SUMMARY:Painted Man
DESCRIPTION:
URL:https://callibakersfirehouse.com/event/painted-man/
CATEGORIES:Live Music
END:VEVENT
BEGIN:VEVENT
DTSTART;TZID=America/New_York:20260711T183000
DTEND;TZID=America/New_York:20260711T220000
DTSTAMP:20260424T122755
CREATED:20260212T210007Z
LAST-MODIFIED:20260212T210007Z
UID:10001042-1783794600-1783807200@callibakersfirehouse.com
SUMMARY:If Birds Could Fly
DESCRIPTION:
URL:https://callibakersfirehouse.com/event/if-birds-could-fly/
CATEGORIES:Live Music
END:VEVENT
BEGIN:VEVENT
DTSTART;TZID=America/New_York:20260713T180000
DTEND;TZID=America/New_York:20260713T200000
DTSTAMP:20260424T122755
CREATED:20250923T135428Z
LAST-MODIFIED:20250923T135428Z
UID:10000312-1783965600-1783972800@callibakersfirehouse.com
SUMMARY:Music Bingo
DESCRIPTION:
URL:https://callibakersfirehouse.com/event/music-bingo/2026-07-13/
CATEGORIES:Event
END:VEVENT
END:VCALENDAR