BEGIN:VCALENDAR
VERSION:2.0
PRODID:-// - ECPv6.15.17.1//NONSGML v1.0//EN
CALSCALE:GREGORIAN
METHOD:PUBLISH
X-ORIGINAL-URL:https://callibakersfirehouse.com
X-WR-CALDESC:Events for 
REFRESH-INTERVAL;VALUE=DURATION:PT1H
X-Robots-Tag:noindex
X-PUBLISHED-TTL:PT1H
BEGIN:VTIMEZONE
TZID:America/New_York
BEGIN:DAYLIGHT
TZOFFSETFROM:-0500
TZOFFSETTO:-0400
TZNAME:EDT
DTSTART:20260308T070000
END:DAYLIGHT
BEGIN:STANDARD
TZOFFSETFROM:-0400
TZOFFSETTO:-0500
TZNAME:EST
DTSTART:20261101T060000
END:STANDARD
BEGIN:DAYLIGHT
TZOFFSETFROM:-0500
TZOFFSETTO:-0400
TZNAME:EDT
DTSTART:20270314T070000
END:DAYLIGHT
BEGIN:STANDARD
TZOFFSETFROM:-0400
TZOFFSETTO:-0500
TZNAME:EST
DTSTART:20271107T060000
END:STANDARD
BEGIN:DAYLIGHT
TZOFFSETFROM:-0500
TZOFFSETTO:-0400
TZNAME:EDT
DTSTART:20280312T070000
END:DAYLIGHT
BEGIN:STANDARD
TZOFFSETFROM:-0400
TZOFFSETTO:-0500
TZNAME:EST
DTSTART:20281105T060000
END:STANDARD
BEGIN:DAYLIGHT
TZOFFSETFROM:-0500
TZOFFSETTO:-0400
TZNAME:EDT
DTSTART:20290311T070000
END:DAYLIGHT
BEGIN:STANDARD
TZOFFSETFROM:-0400
TZOFFSETTO:-0500
TZNAME:EST
DTSTART:20291104T060000
END:STANDARD
END:VTIMEZONE
BEGIN:VEVENT
DTSTART;TZID=America/New_York:20271119T180000
DTEND;TZID=America/New_York:20271119T210000
DTSTAMP:20260425T233932
CREATED:20260212T201250Z
LAST-MODIFIED:20260212T201250Z
UID:10000986-1826647200-1826658000@callibakersfirehouse.com
SUMMARY:Travis Proctor’s Rock & Roll Show
DESCRIPTION:
URL:https://callibakersfirehouse.com/event/travis-proctors-rock-roll-show-4/2027-11-19/
CATEGORIES:Live Music
END:VEVENT
BEGIN:VEVENT
DTSTART;TZID=America/New_York:20271122T180000
DTEND;TZID=America/New_York:20271122T200000
DTSTAMP:20260425T233932
CREATED:20250923T135428Z
LAST-MODIFIED:20250923T135428Z
UID:10000383-1826906400-1826913600@callibakersfirehouse.com
SUMMARY:Music Bingo
DESCRIPTION:
URL:https://callibakersfirehouse.com/event/music-bingo/2027-11-22/
CATEGORIES:Event
END:VEVENT
BEGIN:VEVENT
DTSTART;TZID=America/New_York:20271123T180000
DTEND;TZID=America/New_York:20271123T210000
DTSTAMP:20260425T233932
CREATED:20250923T135503Z
LAST-MODIFIED:20260302T152914Z
UID:10001163-1826992800-1827003600@callibakersfirehouse.com
SUMMARY:Travis Proctor Rock & Roll Show
DESCRIPTION:
URL:https://callibakersfirehouse.com/event/travis-proctor/2027-11-23/
CATEGORIES:Event
END:VEVENT
BEGIN:VEVENT
DTSTART;TZID=America/New_York:20271126T180000
DTEND;TZID=America/New_York:20271126T210000
DTSTAMP:20260425T233932
CREATED:20260212T201250Z
LAST-MODIFIED:20260212T201250Z
UID:10000987-1827252000-1827262800@callibakersfirehouse.com
SUMMARY:Travis Proctor’s Rock & Roll Show
DESCRIPTION:
URL:https://callibakersfirehouse.com/event/travis-proctors-rock-roll-show-4/2027-11-26/
CATEGORIES:Live Music
END:VEVENT
BEGIN:VEVENT
DTSTART;TZID=America/New_York:20271129T180000
DTEND;TZID=America/New_York:20271129T200000
DTSTAMP:20260425T233932
CREATED:20250923T135428Z
LAST-MODIFIED:20250923T135428Z
UID:10000384-1827511200-1827518400@callibakersfirehouse.com
SUMMARY:Music Bingo
DESCRIPTION:
URL:https://callibakersfirehouse.com/event/music-bingo/2027-11-29/
CATEGORIES:Event
END:VEVENT
BEGIN:VEVENT
DTSTART;TZID=America/New_York:20271130T180000
DTEND;TZID=America/New_York:20271130T210000
DTSTAMP:20260425T233932
CREATED:20250923T135503Z
LAST-MODIFIED:20260302T152914Z
UID:10001164-1827597600-1827608400@callibakersfirehouse.com
SUMMARY:Travis Proctor Rock & Roll Show
DESCRIPTION:
URL:https://callibakersfirehouse.com/event/travis-proctor/2027-11-30/
CATEGORIES:Event
END:VEVENT
BEGIN:VEVENT
DTSTART;TZID=America/New_York:20271203T180000
DTEND;TZID=America/New_York:20271203T210000
DTSTAMP:20260425T233932
CREATED:20260212T201250Z
LAST-MODIFIED:20260212T201250Z
UID:10000988-1827856800-1827867600@callibakersfirehouse.com
SUMMARY:Travis Proctor’s Rock & Roll Show
DESCRIPTION:
URL:https://callibakersfirehouse.com/event/travis-proctors-rock-roll-show-4/2027-12-03/
CATEGORIES:Live Music
END:VEVENT
BEGIN:VEVENT
DTSTART;TZID=America/New_York:20271206T180000
DTEND;TZID=America/New_York:20271206T200000
DTSTAMP:20260425T233932
CREATED:20250923T135428Z
LAST-MODIFIED:20250923T135428Z
UID:10000385-1828116000-1828123200@callibakersfirehouse.com
SUMMARY:Music Bingo
DESCRIPTION:
URL:https://callibakersfirehouse.com/event/music-bingo/2027-12-06/
CATEGORIES:Event
END:VEVENT
BEGIN:VEVENT
DTSTART;TZID=America/New_York:20271207T180000
DTEND;TZID=America/New_York:20271207T210000
DTSTAMP:20260425T233932
CREATED:20250923T135503Z
LAST-MODIFIED:20260302T152914Z
UID:10001165-1828202400-1828213200@callibakersfirehouse.com
SUMMARY:Travis Proctor Rock & Roll Show
DESCRIPTION:
URL:https://callibakersfirehouse.com/event/travis-proctor/2027-12-07/
CATEGORIES:Event
END:VEVENT
BEGIN:VEVENT
DTSTART;TZID=America/New_York:20271210T180000
DTEND;TZID=America/New_York:20271210T210000
DTSTAMP:20260425T233932
CREATED:20260212T201250Z
LAST-MODIFIED:20260212T201250Z
UID:10000989-1828461600-1828472400@callibakersfirehouse.com
SUMMARY:Travis Proctor’s Rock & Roll Show
DESCRIPTION:
URL:https://callibakersfirehouse.com/event/travis-proctors-rock-roll-show-4/2027-12-10/
CATEGORIES:Live Music
END:VEVENT
BEGIN:VEVENT
DTSTART;TZID=America/New_York:20271213T180000
DTEND;TZID=America/New_York:20271213T200000
DTSTAMP:20260425T233932
CREATED:20250923T135428Z
LAST-MODIFIED:20250923T135428Z
UID:10000386-1828720800-1828728000@callibakersfirehouse.com
SUMMARY:Music Bingo
DESCRIPTION:
URL:https://callibakersfirehouse.com/event/music-bingo/2027-12-13/
CATEGORIES:Event
END:VEVENT
BEGIN:VEVENT
DTSTART;TZID=America/New_York:20271214T180000
DTEND;TZID=America/New_York:20271214T210000
DTSTAMP:20260425T233932
CREATED:20250923T135503Z
LAST-MODIFIED:20260302T152914Z
UID:10001166-1828807200-1828818000@callibakersfirehouse.com
SUMMARY:Travis Proctor Rock & Roll Show
DESCRIPTION:
URL:https://callibakersfirehouse.com/event/travis-proctor/2027-12-14/
CATEGORIES:Event
END:VEVENT
BEGIN:VEVENT
DTSTART;TZID=America/New_York:20271217T180000
DTEND;TZID=America/New_York:20271217T210000
DTSTAMP:20260425T233932
CREATED:20260212T201250Z
LAST-MODIFIED:20260212T201250Z
UID:10000990-1829066400-1829077200@callibakersfirehouse.com
SUMMARY:Travis Proctor’s Rock & Roll Show
DESCRIPTION:
URL:https://callibakersfirehouse.com/event/travis-proctors-rock-roll-show-4/2027-12-17/
CATEGORIES:Live Music
END:VEVENT
BEGIN:VEVENT
DTSTART;TZID=America/New_York:20271220T180000
DTEND;TZID=America/New_York:20271220T200000
DTSTAMP:20260425T233932
CREATED:20250923T135428Z
LAST-MODIFIED:20250923T135428Z
UID:10000387-1829325600-1829332800@callibakersfirehouse.com
SUMMARY:Music Bingo
DESCRIPTION:
URL:https://callibakersfirehouse.com/event/music-bingo/2027-12-20/
CATEGORIES:Event
END:VEVENT
BEGIN:VEVENT
DTSTART;TZID=America/New_York:20271221T180000
DTEND;TZID=America/New_York:20271221T210000
DTSTAMP:20260425T233932
CREATED:20250923T135503Z
LAST-MODIFIED:20260302T152914Z
UID:10001167-1829412000-1829422800@callibakersfirehouse.com
SUMMARY:Travis Proctor Rock & Roll Show
DESCRIPTION:
URL:https://callibakersfirehouse.com/event/travis-proctor/2027-12-21/
CATEGORIES:Event
END:VEVENT
BEGIN:VEVENT
DTSTART;TZID=America/New_York:20271224T180000
DTEND;TZID=America/New_York:20271224T210000
DTSTAMP:20260425T233932
CREATED:20260212T201250Z
LAST-MODIFIED:20260212T201250Z
UID:10000991-1829671200-1829682000@callibakersfirehouse.com
SUMMARY:Travis Proctor’s Rock & Roll Show
DESCRIPTION:
URL:https://callibakersfirehouse.com/event/travis-proctors-rock-roll-show-4/2027-12-24/
CATEGORIES:Live Music
END:VEVENT
BEGIN:VEVENT
DTSTART;TZID=America/New_York:20271227T180000
DTEND;TZID=America/New_York:20271227T200000
DTSTAMP:20260425T233932
CREATED:20250923T135428Z
LAST-MODIFIED:20250923T135428Z
UID:10000388-1829930400-1829937600@callibakersfirehouse.com
SUMMARY:Music Bingo
DESCRIPTION:
URL:https://callibakersfirehouse.com/event/music-bingo/2027-12-27/
CATEGORIES:Event
END:VEVENT
BEGIN:VEVENT
DTSTART;TZID=America/New_York:20271228T180000
DTEND;TZID=America/New_York:20271228T210000
DTSTAMP:20260425T233932
CREATED:20250923T135503Z
LAST-MODIFIED:20260302T152914Z
UID:10001168-1830016800-1830027600@callibakersfirehouse.com
SUMMARY:Travis Proctor Rock & Roll Show
DESCRIPTION:
URL:https://callibakersfirehouse.com/event/travis-proctor/2027-12-28/
CATEGORIES:Event
END:VEVENT
BEGIN:VEVENT
DTSTART;TZID=America/New_York:20271231T180000
DTEND;TZID=America/New_York:20271231T210000
DTSTAMP:20260425T233932
CREATED:20260212T201250Z
LAST-MODIFIED:20260212T201250Z
UID:10000992-1830276000-1830286800@callibakersfirehouse.com
SUMMARY:Travis Proctor’s Rock & Roll Show
DESCRIPTION:
URL:https://callibakersfirehouse.com/event/travis-proctors-rock-roll-show-4/2027-12-31/
CATEGORIES:Live Music
END:VEVENT
BEGIN:VEVENT
DTSTART;TZID=America/New_York:20280103T180000
DTEND;TZID=America/New_York:20280103T200000
DTSTAMP:20260425T233932
CREATED:20250923T135428Z
LAST-MODIFIED:20250923T135428Z
UID:10000389-1830535200-1830542400@callibakersfirehouse.com
SUMMARY:Music Bingo
DESCRIPTION:
URL:https://callibakersfirehouse.com/event/music-bingo/2028-01-03/
CATEGORIES:Event
END:VEVENT
BEGIN:VEVENT
DTSTART;TZID=America/New_York:20280104T180000
DTEND;TZID=America/New_York:20280104T210000
DTSTAMP:20260425T233932
CREATED:20250923T135503Z
LAST-MODIFIED:20260302T152914Z
UID:10001169-1830621600-1830632400@callibakersfirehouse.com
SUMMARY:Travis Proctor Rock & Roll Show
DESCRIPTION:
URL:https://callibakersfirehouse.com/event/travis-proctor/2028-01-04/
CATEGORIES:Event
END:VEVENT
BEGIN:VEVENT
DTSTART;TZID=America/New_York:20280110T180000
DTEND;TZID=America/New_York:20280110T200000
DTSTAMP:20260425T233932
CREATED:20250923T135428Z
LAST-MODIFIED:20250923T135428Z
UID:10000390-1831140000-1831147200@callibakersfirehouse.com
SUMMARY:Music Bingo
DESCRIPTION:
URL:https://callibakersfirehouse.com/event/music-bingo/2028-01-10/
CATEGORIES:Event
END:VEVENT
BEGIN:VEVENT
DTSTART;TZID=America/New_York:20280111T180000
DTEND;TZID=America/New_York:20280111T210000
DTSTAMP:20260425T233932
CREATED:20250923T135503Z
LAST-MODIFIED:20260302T152914Z
UID:10001170-1831226400-1831237200@callibakersfirehouse.com
SUMMARY:Travis Proctor Rock & Roll Show
DESCRIPTION:
URL:https://callibakersfirehouse.com/event/travis-proctor/2028-01-11/
CATEGORIES:Event
END:VEVENT
BEGIN:VEVENT
DTSTART;TZID=America/New_York:20280117T180000
DTEND;TZID=America/New_York:20280117T200000
DTSTAMP:20260425T233932
CREATED:20250923T135428Z
LAST-MODIFIED:20250923T135428Z
UID:10000391-1831744800-1831752000@callibakersfirehouse.com
SUMMARY:Music Bingo
DESCRIPTION:
URL:https://callibakersfirehouse.com/event/music-bingo/2028-01-17/
CATEGORIES:Event
END:VEVENT
BEGIN:VEVENT
DTSTART;TZID=America/New_York:20280118T180000
DTEND;TZID=America/New_York:20280118T210000
DTSTAMP:20260425T233932
CREATED:20250923T135503Z
LAST-MODIFIED:20260302T152914Z
UID:10001171-1831831200-1831842000@callibakersfirehouse.com
SUMMARY:Travis Proctor Rock & Roll Show
DESCRIPTION:
URL:https://callibakersfirehouse.com/event/travis-proctor/2028-01-18/
CATEGORIES:Event
END:VEVENT
BEGIN:VEVENT
DTSTART;TZID=America/New_York:20280124T180000
DTEND;TZID=America/New_York:20280124T200000
DTSTAMP:20260425T233932
CREATED:20250923T135428Z
LAST-MODIFIED:20250923T135428Z
UID:10000392-1832349600-1832356800@callibakersfirehouse.com
SUMMARY:Music Bingo
DESCRIPTION:
URL:https://callibakersfirehouse.com/event/music-bingo/2028-01-24/
CATEGORIES:Event
END:VEVENT
BEGIN:VEVENT
DTSTART;TZID=America/New_York:20280125T180000
DTEND;TZID=America/New_York:20280125T210000
DTSTAMP:20260425T233932
CREATED:20250923T135503Z
LAST-MODIFIED:20260302T152914Z
UID:10001172-1832436000-1832446800@callibakersfirehouse.com
SUMMARY:Travis Proctor Rock & Roll Show
DESCRIPTION:
URL:https://callibakersfirehouse.com/event/travis-proctor/2028-01-25/
CATEGORIES:Event
END:VEVENT
BEGIN:VEVENT
DTSTART;TZID=America/New_York:20280131T180000
DTEND;TZID=America/New_York:20280131T200000
DTSTAMP:20260425T233932
CREATED:20250923T135428Z
LAST-MODIFIED:20250923T135428Z
UID:10000393-1832954400-1832961600@callibakersfirehouse.com
SUMMARY:Music Bingo
DESCRIPTION:
URL:https://callibakersfirehouse.com/event/music-bingo/2028-01-31/
CATEGORIES:Event
END:VEVENT
BEGIN:VEVENT
DTSTART;TZID=America/New_York:20280201T180000
DTEND;TZID=America/New_York:20280201T210000
DTSTAMP:20260425T233932
CREATED:20250923T135503Z
LAST-MODIFIED:20260302T152914Z
UID:10001173-1833040800-1833051600@callibakersfirehouse.com
SUMMARY:Travis Proctor Rock & Roll Show
DESCRIPTION:
URL:https://callibakersfirehouse.com/event/travis-proctor/2028-02-01/
CATEGORIES:Event
END:VEVENT
BEGIN:VEVENT
DTSTART;TZID=America/New_York:20280207T180000
DTEND;TZID=America/New_York:20280207T200000
DTSTAMP:20260425T233932
CREATED:20250923T135428Z
LAST-MODIFIED:20250923T135428Z
UID:10000394-1833559200-1833566400@callibakersfirehouse.com
SUMMARY:Music Bingo
DESCRIPTION:
URL:https://callibakersfirehouse.com/event/music-bingo/2028-02-07/
CATEGORIES:Event
END:VEVENT
END:VCALENDAR