BEGIN:VCALENDAR
VERSION:2.0
PRODID:-// - ECPv6.15.17.1//NONSGML v1.0//EN
CALSCALE:GREGORIAN
METHOD:PUBLISH
X-ORIGINAL-URL:https://callibakersfirehouse.com
X-WR-CALDESC:Events for 
REFRESH-INTERVAL;VALUE=DURATION:PT1H
X-Robots-Tag:noindex
X-PUBLISHED-TTL:PT1H
BEGIN:VTIMEZONE
TZID:America/New_York
BEGIN:DAYLIGHT
TZOFFSETFROM:-0500
TZOFFSETTO:-0400
TZNAME:EDT
DTSTART:20250309T070000
END:DAYLIGHT
BEGIN:STANDARD
TZOFFSETFROM:-0400
TZOFFSETTO:-0500
TZNAME:EST
DTSTART:20251102T060000
END:STANDARD
BEGIN:DAYLIGHT
TZOFFSETFROM:-0500
TZOFFSETTO:-0400
TZNAME:EDT
DTSTART:20260308T070000
END:DAYLIGHT
BEGIN:STANDARD
TZOFFSETFROM:-0400
TZOFFSETTO:-0500
TZNAME:EST
DTSTART:20261101T060000
END:STANDARD
BEGIN:DAYLIGHT
TZOFFSETFROM:-0500
TZOFFSETTO:-0400
TZNAME:EDT
DTSTART:20270314T070000
END:DAYLIGHT
BEGIN:STANDARD
TZOFFSETFROM:-0400
TZOFFSETTO:-0500
TZNAME:EST
DTSTART:20271107T060000
END:STANDARD
END:VTIMEZONE
BEGIN:VEVENT
DTSTART;TZID=America/New_York:20260424T183000
DTEND;TZID=America/New_York:20260424T220000
DTSTAMP:20260424T052930
CREATED:20260212T204610Z
LAST-MODIFIED:20260212T204610Z
UID:10001027-1777055400-1777068000@callibakersfirehouse.com
SUMMARY:How 'Bout Now
DESCRIPTION:
URL:https://callibakersfirehouse.com/event/how-bout-now-2/
CATEGORIES:Live Music
END:VEVENT
BEGIN:VEVENT
DTSTART;TZID=America/New_York:20260427T180000
DTEND;TZID=America/New_York:20260427T200000
DTSTAMP:20260424T052930
CREATED:20250923T135428Z
LAST-MODIFIED:20250923T135428Z
UID:10000301-1777312800-1777320000@callibakersfirehouse.com
SUMMARY:Music Bingo
DESCRIPTION:
URL:https://callibakersfirehouse.com/event/music-bingo/2026-04-27/
CATEGORIES:Event
END:VEVENT
BEGIN:VEVENT
DTSTART;TZID=America/New_York:20260428T180000
DTEND;TZID=America/New_York:20260428T210000
DTSTAMP:20260424T052930
CREATED:20250923T135503Z
LAST-MODIFIED:20260302T152914Z
UID:10001081-1777399200-1777410000@callibakersfirehouse.com
SUMMARY:Travis Proctor Rock & Roll Show
DESCRIPTION:
URL:https://callibakersfirehouse.com/event/travis-proctor/2026-04-28/
CATEGORIES:Event
END:VEVENT
BEGIN:VEVENT
DTSTART;TZID=America/New_York:20260429T190000
DTEND;TZID=America/New_York:20260429T210000
DTSTAMP:20260424T052930
CREATED:20250923T135347Z
LAST-MODIFIED:20260420T151148Z
UID:10000041-1777489200-1777496400@callibakersfirehouse.com
SUMMARY:Team Trivia
DESCRIPTION:
URL:https://callibakersfirehouse.com/event/team-trivia/2026-04-29/
CATEGORIES:Event
END:VEVENT
BEGIN:VEVENT
DTSTART;TZID=America/New_York:20260430T180000
DTEND;TZID=America/New_York:20260430T210000
DTSTAMP:20260424T052930
CREATED:20260122T194216Z
LAST-MODIFIED:20260122T194216Z
UID:10000901-1777572000-1777582800@callibakersfirehouse.com
SUMMARY:Travis Proctor's Rock & Roll Show
DESCRIPTION:
URL:https://callibakersfirehouse.com/event/travis-proctors-rock-roll-show-2/2026-04-30/
CATEGORIES:Live Music
END:VEVENT
END:VCALENDAR